
BEGIN:VCALENDAR
VERSION:2.0
PRODID:-//APEL SJH - ECPv6.15.20//NONSGML v1.0//EN
CALSCALE:GREGORIAN
METHOD:PUBLISH
X-ORIGINAL-URL:https://www.apel-saint-jean-hulst.org
X-WR-CALDESC:Évènements pour APEL SJH
REFRESH-INTERVAL;VALUE=DURATION:PT1H
X-Robots-Tag:noindex
X-PUBLISHED-TTL:PT1H
BEGIN:VTIMEZONE
TZID:Europe/Paris
BEGIN:DAYLIGHT
TZOFFSETFROM:+0100
TZOFFSETTO:+0200
TZNAME:CEST
DTSTART:20240331T010000
END:DAYLIGHT
BEGIN:STANDARD
TZOFFSETFROM:+0200
TZOFFSETTO:+0100
TZNAME:CET
DTSTART:20241027T010000
END:STANDARD
BEGIN:DAYLIGHT
TZOFFSETFROM:+0100
TZOFFSETTO:+0200
TZNAME:CEST
DTSTART:20250330T010000
END:DAYLIGHT
BEGIN:STANDARD
TZOFFSETFROM:+0200
TZOFFSETTO:+0100
TZNAME:CET
DTSTART:20251026T010000
END:STANDARD
BEGIN:DAYLIGHT
TZOFFSETFROM:+0100
TZOFFSETTO:+0200
TZNAME:CEST
DTSTART:20260329T010000
END:DAYLIGHT
BEGIN:STANDARD
TZOFFSETFROM:+0200
TZOFFSETTO:+0100
TZNAME:CET
DTSTART:20261025T010000
END:STANDARD
END:VTIMEZONE
BEGIN:VEVENT
DTSTART;TZID=Europe/Paris:20250304T203000
DTEND;TZID=Europe/Paris:20250304T220000
DTSTAMP:20260420T060823
CREATED:20250211T070143Z
LAST-MODIFIED:20250211T071209Z
UID:2606-1741120200-1741125600@www.apel-saint-jean-hulst.org
SUMMARY:Conférence - IA dans l'éducation scolaire\, comment l'apprivoiser ?
DESCRIPTION:L’Intelligence Artificielle et l’éducation. \nComment apprivoiser l’une pour préserver l’autre ? Quel usage faire de l’Intelligence Artificielle\, ce nouvel outil en évolution constante dont l’usage est déjà incontournable dans le mieux professionnel ? Comment accompagner nos jeunes dans son utilisation pour qu’elle ne devienne pas ennemie du développement de leur propre intelligence ? \nJulie Higounet\, fondatrice de EDHUMAN\, organisme établi en Californie qui accompagne les organisations éducatives dans les transitions\, viendra éclairer notre esprit critique sur ce sujet\, lors d’une conférence le 4 mars 2025. \n  \nLIEN VERS LE FORMULAIRE D’INSCRIPTION
URL:https://www.apel-saint-jean-hulst.org/event/conference-ia-dans-leducation-scolaire-comment-lapprivoiser/
LOCATION:Odeon
CATEGORIES:Collège,Lycée
ORGANIZER;CN="Apel SJH":MAILTO:apel@apel-saint-jean-hulst.org
END:VEVENT
BEGIN:VEVENT
DTSTART;TZID=Europe/Paris:20250322T090000
DTEND;TZID=Europe/Paris:20250322T113000
DTSTAMP:20260420T060823
CREATED:20241018T134806Z
LAST-MODIFIED:20250213T193435Z
UID:2442-1742634000-1742643000@www.apel-saint-jean-hulst.org
SUMMARY:Forum Info Avenir
DESCRIPTION:Le Forum Info Avenir est un évènement réservé aux lycéens de SJH le samedi 22 mars 2025 de 9H à 11H. Les lycéens pourront à cette occasion rencontrer des professionnels de tous secteurs d’activité\, afin de les aider à faire leurs choix futurs !\n \nEn 2024 plus de 130 professionnels ont participé pour venir illustrer les différents domaines d’activité. Si vous souhaitez vous aussi\, transmettre votre parcours professionnel et parler de votre métier\, n’hésitez pas à vous inscrire ICI 
URL:https://www.apel-saint-jean-hulst.org/event/forum-des-metiers-2/
LOCATION:Grand Saint Jean\, 26\, rue du Maréchal de Lattre de Tassigny\, VERSAILLES\, Sélectionner un État :\, 78000\, France
CATEGORIES:Lycée
ATTACH;FMTTYPE=image/png:https://www.apel-saint-jean-hulst.org/wp-content/uploads/2024/10/Capture-decran-2025-02-13-203334.png
ORGANIZER;CN="Apel SJH":MAILTO:apel@apel-saint-jean-hulst.org
END:VEVENT
BEGIN:VEVENT
DTSTART;TZID=Europe/Paris:20250326T200000
DTEND;TZID=Europe/Paris:20250326T220000
DTSTAMP:20260420T060823
CREATED:20250211T071136Z
LAST-MODIFIED:20250211T071136Z
UID:2608-1743019200-1743026400@www.apel-saint-jean-hulst.org
SUMMARY:Conférence - Faites-les lire ! Pour en finir avec le crétin digital
DESCRIPTION:La lecture et ses nombreux bienfaits. \nA l’heure où nous parlons d’IA\, de réseaux sociaux\, de vie digitale en somme\, n’oublions pas cette activité intellectuelle traditionnelle et élémentaire. \nRien de nouveau sous le soleil pourriez-vous penser ! Oui\, c’est vrai\, nous savons que la lecture est bonne pour nous. Mais en quoi ? Pour quoi ? Quels véritables enjeux y a-t-il\, aujourd’hui encore plus qu’hier\, à éduquer nos enfants à la lecture et surtout\, à leur en donner le goût pour la vie ? \nMichel Desmurget\, docteur et chercheur en neurosciences cognitives\, auteur du livre « Faites-les lire ! Pour en finir avec le crétin digital » viendra spécialement le 26 mars prochain développer ce thème pour nous. \nLIEN VERS LE FORMULAIRE D’INSCRIPTION
URL:https://www.apel-saint-jean-hulst.org/event/conference-faites-les-lire-pour-en-finir-avec-le-cretin-digital/
LOCATION:Odeon
CATEGORIES:Collège,Lycée
ORGANIZER;CN="Apel SJH":MAILTO:apel@apel-saint-jean-hulst.org
END:VEVENT
END:VCALENDAR