
BEGIN:VCALENDAR
VERSION:2.0
PRODID:-//APEL SJH - ECPv6.15.20//NONSGML v1.0//EN
CALSCALE:GREGORIAN
METHOD:PUBLISH
X-WR-CALNAME:APEL SJH
X-ORIGINAL-URL:https://www.apel-saint-jean-hulst.org
X-WR-CALDESC:Évènements pour APEL SJH
REFRESH-INTERVAL;VALUE=DURATION:PT1H
X-Robots-Tag:noindex
X-PUBLISHED-TTL:PT1H
BEGIN:VTIMEZONE
TZID:Europe/Paris
BEGIN:DAYLIGHT
TZOFFSETFROM:+0100
TZOFFSETTO:+0200
TZNAME:CEST
DTSTART:20230326T010000
END:DAYLIGHT
BEGIN:STANDARD
TZOFFSETFROM:+0200
TZOFFSETTO:+0100
TZNAME:CET
DTSTART:20231029T010000
END:STANDARD
BEGIN:DAYLIGHT
TZOFFSETFROM:+0100
TZOFFSETTO:+0200
TZNAME:CEST
DTSTART:20240331T010000
END:DAYLIGHT
BEGIN:STANDARD
TZOFFSETFROM:+0200
TZOFFSETTO:+0100
TZNAME:CET
DTSTART:20241027T010000
END:STANDARD
BEGIN:DAYLIGHT
TZOFFSETFROM:+0100
TZOFFSETTO:+0200
TZNAME:CEST
DTSTART:20250330T010000
END:DAYLIGHT
BEGIN:STANDARD
TZOFFSETFROM:+0200
TZOFFSETTO:+0100
TZNAME:CET
DTSTART:20251026T010000
END:STANDARD
END:VTIMEZONE
BEGIN:VEVENT
DTSTART;TZID=Europe/Paris:20241114T080000
DTEND;TZID=Europe/Paris:20241114T170000
DTSTAMP:20260422T133427
CREATED:20241018T134954Z
LAST-MODIFIED:20241018T134954Z
UID:2444-1731571200-1731603600@www.apel-saint-jean-hulst.org
SUMMARY:Conseil Pastoral
DESCRIPTION:Le projet pastoral de SJH est soutenu et menés par une communauté de laïcs engagés pour nos enfants\, de bénévoles et bien sûr de pères eudistes et diocésains. \nUn Conseil pastoral auquel l’Apel est convié\, se réunit à échéances régulières pour faire le point sur les actions mises en oeuvre et les nouveaux projets à venir. \nNous avons donc besoin\, à ce titre\, de vos contributions\, remarques\, suggestions afin de faire valoir votre parole auprès des parties prenantes à ce conseil. \nParents d’élèves\, n’hésitez donc pas à faire vos remontées\, en amont du conseil\, en adressant un email à commission-pastorale@apel-saint-jean-hulst.org
URL:https://www.apel-saint-jean-hulst.org/event/conseil-pastoral-4/
CATEGORIES:Pour Tous
END:VEVENT
BEGIN:VEVENT
DTSTART;TZID=Europe/Paris:20241114T200000
DTEND;TZID=Europe/Paris:20241114T223000
DTSTAMP:20260422T133427
CREATED:20241017T060514Z
LAST-MODIFIED:20241104T130159Z
UID:2408-1731614400-1731623400@www.apel-saint-jean-hulst.org
SUMMARY:Soirée Quizz & Cheese pour les parents de 6ème et de nouveaux du collège
DESCRIPTION:Chers parents d’enfants en 6ème ou nouveaux au collège\, pour bien commencer cette nouvelle année\, l’APEL est heureuse de vous convier à une soirée gourmande & fun pour vous donner l’occasion de faire connaissance les uns avec les autres et accueillir les nombreux nouveaux parents. \nJeudi 14 novembre \nSoirée Quizz & Cheese \nParticipation : 10 Eur par pers. \nINSCRIPTION AVANT LE 12 NOVEMBRE  \nCLIQUEZ ICI
URL:https://www.apel-saint-jean-hulst.org/event/soiree-quizz-cheese-pour-les-parents-de-6eme/
LOCATION:Réfectoire\, 26\, rue du Maréchal de Lattre de Tassigny\, VERSAILLES\, 78000\, France
CATEGORIES:Collège
ATTACH;FMTTYPE=image/jpeg:https://www.apel-saint-jean-hulst.org/wp-content/uploads/2024/10/QandC-bandeau-1.jpg
ORGANIZER;CN="APEL - Coll%C3%A8ge":MAILTO:college@apel-saint-jean-hulst.org
END:VEVENT
BEGIN:VEVENT
DTSTART;TZID=Europe/Paris:20241116T083000
DTEND;TZID=Europe/Paris:20241116T113000
DTSTAMP:20260422T133427
CREATED:20241018T134534Z
LAST-MODIFIED:20241022T061922Z
UID:2440-1731745800-1731756600@www.apel-saint-jean-hulst.org
SUMMARY:Forum des Langues
DESCRIPTION:L’APEL SJH vous offre une occasion unique de rencontrer les 15 principaux organisateurs* de séjours linguistiques en 1 seule occasion\, aux portes de chez vous ! \nOù: Collège-Lycée Saint Jean Hulst – salle Odéon\nQuand: samedi 16 novembre 2024 de 8h30 à 11h30\nQui: tous les parents intéressés\, du CM2 au lycée. Evénement ouvert aux parents hors SJH. \n*Liste des exposants et détails pratiques en cliquant ici.
URL:https://www.apel-saint-jean-hulst.org/event/forum-langues-2/
LOCATION:Odeon
CATEGORIES:Collège,Lycée
ATTACH;FMTTYPE=image/jpeg:https://www.apel-saint-jean-hulst.org/wp-content/uploads/2024/10/flyer-recto-APEL-SJH-FORUM-LANGUES-ET-SEJ-LING-24-.jpg
END:VEVENT
BEGIN:VEVENT
DTSTART;TZID=Europe/Paris:20241122T163000
DTEND;TZID=Europe/Paris:20241122T190000
DTSTAMP:20260422T133427
CREATED:20241018T125724Z
LAST-MODIFIED:20241122T091654Z
UID:2422-1732293000-1732302000@www.apel-saint-jean-hulst.org
SUMMARY:ANNULE - Ciné Club Collège Anglais
DESCRIPTION:Mise à jour vendredi 22 novembre matin \nChers parents\, \n \nEn raison des conditions météorologiques\, il nous parait plus prudent d’annuler le ciné-club anglais qui était prévu cet après midi de 16h30 à 19h.\n \nAvec notre entier dévouement\,\n \nCiné Club de l’APEL de Saint Jean Huslt\ncineclub@apel-saint-jean-hulst.org\n —————————– \nLe Cinéclub de l’APEL Saint Jean Hulst invite et accueille vos enfants à l’Odéon (transformé en salle de cinéma) pour la projection d’un film en Anglais (sous-titré français).   \nUn goûter est offert (dès 16h30) avant la projection pour en faire une rencontre aussi conviviale que linguistique !   \nPour des raisons d’organisation et de sécurité\, nous vous demandons d’inscrire en ligne vos enfants au plus tard quelques jours avant [Date à venir]. \nSi votre enfant inscrit ne viendra finalement pas\, merci de nous prévenir à cineclub@apel-saint-jean-hulst.org pour nous éviter de vous appeler.  \nGoûter et séance sont compatibles avec une sortie de cours à 16h30. Projection à 17h00 précises\, fin à [Heure de fin à venir].
URL:https://www.apel-saint-jean-hulst.org/event/cine-club-college-anglais-2/
LOCATION:Odeon
CATEGORIES:CinéClub,Collège
END:VEVENT
BEGIN:VEVENT
DTSTART;TZID=Europe/Paris:20241129T074000
DTEND;TZID=Europe/Paris:20241129T081000
DTSTAMP:20260422T133427
CREATED:20241201T180812Z
LAST-MODIFIED:20241201T181920Z
UID:2548-1732866000-1732867800@www.apel-saint-jean-hulst.org
SUMMARY:Opération sécurité vélo
DESCRIPTION:Chers parents \n \nVendredi matin\, nous avons organisé une action visant à sensibiliser vos enfants sur la nécessité d’être bien équipé à vélo.\n\nNous avons distribué des lampes à ceux qui n’en avaient pas ou ceux dont les lampes ne fonctionnaient plus\, en leur rappelant l’importance d’être bien visibles par les automobilistes. \n\nNous avons distribué des bonbons à ceux qui étaient bien équipés (lumières\, casques et gilets).\n \nNous constatons que les plus jeunes sont un peu mieux équipés que par le passé. Tant mieux pour eux\, ils roulent en sécurité. Mais il y a tellement d’enfants qui arrivent sans lumière\, sans casque !!! Vous leur faites prendre de gros risques : agissez et équipez-les.\n \n    
URL:https://www.apel-saint-jean-hulst.org/event/operation-securite-velo/
ATTACH;FMTTYPE=image/jpeg:https://www.apel-saint-jean-hulst.org/wp-content/uploads/2024/12/image0.jpeg
END:VEVENT
END:VCALENDAR