
BEGIN:VCALENDAR
VERSION:2.0
PRODID:-//APEL SJH - ECPv6.15.20//NONSGML v1.0//EN
CALSCALE:GREGORIAN
METHOD:PUBLISH
X-ORIGINAL-URL:https://www.apel-saint-jean-hulst.org
X-WR-CALDESC:Évènements pour APEL SJH
REFRESH-INTERVAL;VALUE=DURATION:PT1H
X-Robots-Tag:noindex
X-PUBLISHED-TTL:PT1H
BEGIN:VTIMEZONE
TZID:Europe/Paris
BEGIN:DAYLIGHT
TZOFFSETFROM:+0100
TZOFFSETTO:+0200
TZNAME:CEST
DTSTART:20230326T010000
END:DAYLIGHT
BEGIN:STANDARD
TZOFFSETFROM:+0200
TZOFFSETTO:+0100
TZNAME:CET
DTSTART:20231029T010000
END:STANDARD
BEGIN:DAYLIGHT
TZOFFSETFROM:+0100
TZOFFSETTO:+0200
TZNAME:CEST
DTSTART:20240331T010000
END:DAYLIGHT
BEGIN:STANDARD
TZOFFSETFROM:+0200
TZOFFSETTO:+0100
TZNAME:CET
DTSTART:20241027T010000
END:STANDARD
BEGIN:DAYLIGHT
TZOFFSETFROM:+0100
TZOFFSETTO:+0200
TZNAME:CEST
DTSTART:20250330T010000
END:DAYLIGHT
BEGIN:STANDARD
TZOFFSETFROM:+0200
TZOFFSETTO:+0100
TZNAME:CET
DTSTART:20251026T010000
END:STANDARD
END:VTIMEZONE
BEGIN:VEVENT
DTSTART;TZID=Europe/Paris:20241001T080000
DTEND;TZID=Europe/Paris:20241001T170000
DTSTAMP:20260422T152049
CREATED:20241018T135907Z
LAST-MODIFIED:20241018T135907Z
UID:2460-1727769600-1727802000@www.apel-saint-jean-hulst.org
SUMMARY:Commission Restauration
DESCRIPTION:Une Commission Restauration se réunit à échéances régulières pour évaluer la qualité des repas (quantité\, équilibre\, durée\, coût). \nL’Apel participe à chacune d’elle et a besoin de connaître les remarques importantes qui doivent être faite en votre nom et celui des élèves demi-pensionnaires. \nChers parents d’élèves\, n’hésitez donc pas à faire vos remontées\, en amont de la commission\, en adressant un email à commission-restauration@apel-saint-jean-hulst.org
URL:https://www.apel-saint-jean-hulst.org/event/commission-restauration-4/
END:VEVENT
BEGIN:VEVENT
DTSTART;TZID=Europe/Paris:20241001T200000
DTEND;TZID=Europe/Paris:20241001T220000
DTSTAMP:20260422T152049
CREATED:20240924T123835Z
LAST-MODIFIED:20240924T124019Z
UID:2361-1727812800-1727820000@www.apel-saint-jean-hulst.org
SUMMARY:Web-conférence "La force de l'optimisme"
DESCRIPTION:L’Apel Départementale des Yvelines est heureuse de vous convier à sa première conférence sur le thème :\n« La force de l’optimisme : Comment vivre du côté positif ? »\nLe mardi 1er Octobre 2024 à 20H en visio sur Teams.\nYves de Montbron\, ex-chargé de cours de management à ESCP-Europe et consultant en management\, past-secrétaire de la Ligue des Optimistes de France (www.liguedesoptimistes.fr)\, nous fera l’honneur d’animer cette conférence.\n \nVous pouvez vous inscrire via le lien suivant :https://events.teams.microsoft.com/event/d85398d8-c5cc-471d-a772-f4bfd7ade0f6@932ef2db-b41c-4cff-8068-d8fb3747fe82\n \nAfin de participer pleinement à cette conférence nous vous remercions de bien vouloir mesurer votre niveau naturel d’optimisme à l’aide d’un autodiagnostic simple en 10 questions : Le Test d’Orientation Vitale.\nVous le trouverez en pièce jointe.
URL:https://www.apel-saint-jean-hulst.org/event/2361/
LOCATION:Teams
END:VEVENT
BEGIN:VEVENT
DTSTART;TZID=Europe/Paris:20241007T183000
DTEND;TZID=Europe/Paris:20241007T220000
DTSTAMP:20260422T152049
CREATED:20240922T183117Z
LAST-MODIFIED:20241007T135650Z
UID:2335-1728325800-1728338400@www.apel-saint-jean-hulst.org
SUMMARY:Soirée de rentrée et Assemblée Générale
DESCRIPTION:  \n\n\n\n\n18h30 : messe de rentrée Parents + Communauté éducative\, célébrée par le Père Mauricio. Dans la Chapelle de St Jean \n19h30 : apéro-dînatoire pour tous\, au chaud dans le réfectoire \n20h30 : Assemblée Générale de l’Apel SJH (détail ci-dessous) \n                AG 2024 Rapport d’activité 2023-2024 \n                AG 2024 Comptes 2023-2024 et Budget 2024-2025 \n                La présentation complète projetée pendant l’AG \n                Résultats sondage numérique AG 2024-10-07 \n \n\n\n\n  \nOrdre du jour de l’Assemblée Générale Ordinaire du 7 octobre 2024 à St Jean Hulst\, Salle Odéon\, 26 rue du Mal de Lattre de Tassigny : \n– Rapport moral (rapport d’activités 2023-2024) \n– Les priorités pour l’année à venir \n– Rapport financier 2023-2024 et budget 2024-2025 \n– Votes : \n    – Approbation du rapport moral \n    – Approbation du rapport financier 2023-2024. Quitus de gestion. \n    – Vote du budget 2024-2025 \n– Résultat des élections des parents au Conseil d’Administration de l’association \n– Retour d’enquête sur le numérique au collège \nSi vous souhaitez donner votre pouvoir à un autre membre pour l’assemblée générale\, vous pouvez remplir la procuration en pièce jointe et soit la renvoyer à Apel Saint-Jean-Hulst\, 26 rue du Maréchal de Lattre de Tassigny 78000 Versailles\, soit la remettre sous enveloppe au nom de l’Apel à l’accueil de St Jean\, soit l’envoyer à apel@apel-saint-jean-hulst.org\, avant le 4 octobre 2023. \nAG 2024 Rapport d’activité 2023-2024 \nAG 2024 Comptes 2023-2024 et Budget 2024-2025 \nLa présentation complète projetée pendant l’AG \nRésultats sondage numérique AG 2024-10-07 \n  \n  \n 
URL:https://www.apel-saint-jean-hulst.org/event/soiree-de-rentree-et-assemblee-generale/
LOCATION:Odeon
END:VEVENT
BEGIN:VEVENT
DTSTART;TZID=Europe/Paris:20241011T163000
DTEND;TZID=Europe/Paris:20241011T190000
DTSTAMP:20260422T152049
CREATED:20241018T133936Z
LAST-MODIFIED:20241018T133936Z
UID:2432-1728664200-1728673200@www.apel-saint-jean-hulst.org
SUMMARY:Ciné Club Collège Allemand
DESCRIPTION:Le Cinéclub de l’APEL Saint Jean Hulst invite et accueille vos enfants à l’Odéon (transformé en salle de cinéma) pour la projection d’un film en Allemand (sous-titré français).   \nUn goûter est offert (dès 16h30) avant la projection pour en faire une rencontre aussi conviviale que linguistique !   \nPour des raisons d’organisation et de sécurité\, nous vous demandons d’inscrire en ligne vos enfants au plus tard quelques jours avant [Date à venir]. \nSi votre enfant inscrit ne viendra finalement pas\, merci de nous prévenir à cineclub@apel-saint-jean-hulst.org pour nous éviter de vous appeler.  \nGoûter et séance sont compatibles avec une sortie de cours à 16h30. Projection à 17h00 précises\, fin à [Heure de fin à venir].
URL:https://www.apel-saint-jean-hulst.org/event/cine-club-college-allemand/
LOCATION:Odeon
CATEGORIES:CinéClub,Collège
END:VEVENT
END:VCALENDAR