
BEGIN:VCALENDAR
VERSION:2.0
PRODID:-//APEL SJH - ECPv6.15.20//NONSGML v1.0//EN
CALSCALE:GREGORIAN
METHOD:PUBLISH
X-ORIGINAL-URL:https://www.apel-saint-jean-hulst.org
X-WR-CALDESC:Évènements pour APEL SJH
REFRESH-INTERVAL;VALUE=DURATION:PT1H
X-Robots-Tag:noindex
X-PUBLISHED-TTL:PT1H
BEGIN:VTIMEZONE
TZID:Europe/Paris
BEGIN:DAYLIGHT
TZOFFSETFROM:+0100
TZOFFSETTO:+0200
TZNAME:CEST
DTSTART:20230326T010000
END:DAYLIGHT
BEGIN:STANDARD
TZOFFSETFROM:+0200
TZOFFSETTO:+0100
TZNAME:CET
DTSTART:20231029T010000
END:STANDARD
BEGIN:DAYLIGHT
TZOFFSETFROM:+0100
TZOFFSETTO:+0200
TZNAME:CEST
DTSTART:20240331T010000
END:DAYLIGHT
BEGIN:STANDARD
TZOFFSETFROM:+0200
TZOFFSETTO:+0100
TZNAME:CET
DTSTART:20241027T010000
END:STANDARD
BEGIN:DAYLIGHT
TZOFFSETFROM:+0100
TZOFFSETTO:+0200
TZNAME:CEST
DTSTART:20250330T010000
END:DAYLIGHT
BEGIN:STANDARD
TZOFFSETFROM:+0200
TZOFFSETTO:+0100
TZNAME:CET
DTSTART:20251026T010000
END:STANDARD
END:VTIMEZONE
BEGIN:VEVENT
DTSTART;TZID=Europe/Paris:20240521T080000
DTEND;TZID=Europe/Paris:20240521T170000
DTSTAMP:20260423T011056
CREATED:20240503T170610Z
LAST-MODIFIED:20240503T170610Z
UID:2152-1716278400-1716310800@www.apel-saint-jean-hulst.org
SUMMARY:Conseil d'établissement (secondaire)
DESCRIPTION:
URL:https://www.apel-saint-jean-hulst.org/event/conseil-detablissement-secondaire/
CATEGORIES:Collège,Lycée
END:VEVENT
BEGIN:VEVENT
DTSTART;TZID=Europe/Paris:20240524T163000
DTEND;TZID=Europe/Paris:20240524T183000
DTSTAMP:20260423T011056
CREATED:20240402T191206Z
LAST-MODIFIED:20240509T162705Z
UID:2125-1716568200-1716575400@www.apel-saint-jean-hulst.org
SUMMARY:Ciné Club Espagnol
DESCRIPTION:Le Cinéclub de l’APEL Saint Jean Hulst invite et accueille vos enfants à l’Odéon (transformé en salle de cinéma) pour la projection d’un film en Espagnol (sous-titré français).   \nUn goûter est offert (dès 16h30) avant la projection pour en faire une rencontre aussi conviviale que linguistique !   \nPour des raisons d’organisation et de sécurité\, nous vous demandons d’inscrire en ligne vos enfants au plus tard jeudi 23 mai : cliquez ici \nSi votre enfant inscrit ne viendra finalement pas\, merci de nous prévenir à cineclub@apel-saint-jean-hulst.org pour nous éviter de vous appeler.  \nGoûter et séance sont compatibles avec une sortie de cours à 16h30. Projection à 17h00 précises\, fin à [Heure de fin à venir]. \nNous projetterons en VO [Titre à venir]
URL:https://www.apel-saint-jean-hulst.org/event/cine-club-espagnol/
LOCATION:Odeon
CATEGORIES:CinéClub
END:VEVENT
BEGIN:VEVENT
DTSTART;TZID=Europe/Paris:20240525T080000
DTEND;TZID=Europe/Paris:20240525T170000
DTSTAMP:20260423T011056
CREATED:20240503T170540Z
LAST-MODIFIED:20240506T061706Z
UID:2150-1716624000-1716656400@www.apel-saint-jean-hulst.org
SUMMARY:Conseil d'Ecole (primaire)
DESCRIPTION:
URL:https://www.apel-saint-jean-hulst.org/event/conseil-decole/
CATEGORIES:Primaire
END:VEVENT
BEGIN:VEVENT
DTSTART;TZID=Europe/Paris:20240528T080000
DTEND;TZID=Europe/Paris:20240528T170000
DTSTAMP:20260423T011056
CREATED:20240105T190532Z
LAST-MODIFIED:20240105T195448Z
UID:1825-1716883200-1716915600@www.apel-saint-jean-hulst.org
SUMMARY:Commission EARS (Education Affective\, Relationnelle et Sexuelle)
DESCRIPTION:Parents d’élèves\, n’hésitez pas à faire vos remontées\, en amont de la commission\, en adressant un email à l’un des membres de l’APEL qui y participe : \n\nsoizicksamaran@gmail.com
URL:https://www.apel-saint-jean-hulst.org/event/commission-ears-education-affective-relationnelle-et-sexuelle-2/
CATEGORIES:Tous
END:VEVENT
BEGIN:VEVENT
DTSTART;TZID=Europe/Paris:20240528T183000
DTEND;TZID=Europe/Paris:20240528T200000
DTSTAMP:20260423T011056
CREATED:20240109T102230Z
LAST-MODIFIED:20240521T121539Z
UID:1898-1716921000-1716926400@www.apel-saint-jean-hulst.org
SUMMARY:Conférence (sur Teams) : Parcoursup : de la réception des réponses jusqu'au choix définitif de formation
DESCRIPTION:Chers Parents\, l’Apel Académique de Versailles et les Apel départementales des Yvelines\, de l’Essonne\, des Hauts de Seine et du Val d’Oise sont heureuses de vous convier à la 11ème conférence du Passeport Orientation proposé pour l’année scolaire 2023-2024\, afin d’accompagner les parents au plus près sur toutes les questions liées à l’orientation. \nNous avons donc le plaisir de vous convier à la conférence : Finaliser son choix de formation avec Parcoursup\, \n \nWEBINAIRE ICF organisé par l’APEL NATIONALE \n Mardi 28 mai de 18h30 à 20h \n  \nVotre enfant a confirmé ses vœux sur Parcoursup et se prépare à recevoir\nles réponses des formations pour lesquelles il a candidaté dans l’enseignement supérieur ? \n  \nAfin de l’accompagner au mieux dans son choix définitif\, le service Information et conseil aux familles (ICF) de l’Apel nationale\nvous propose de participer au troisième webinaire de l’année 2023-2024\, avec la participation de Monsieur Jérôme TEILLARD\,\ndu ministère de l’enseignement supérieur. \n \nPrésenté par Catherine ROMUALD et animé par Hélène LAUBIGNAT\, membres du bureau national de l’Apel\,\nce webinaire vous apportera des précisions sur le déroulement de la phase d’admission et la gestion des réponses reçues. \npour vous inscrire\, cliquez ici \nPendant le webinaire\, un tchat vous permettra de poser vos questions en direct. Vous avez également la possibilité de nous faire part\nde vos questions en amont du webinaire. Un formulaire vous sera envoyé lors de l’accusé de réception de cette inscription.
URL:https://www.apel-saint-jean-hulst.org/event/conference-sur-teams-parcoursup-de-la-reception-des-reponses-jusquau-choix-definitif-de-formation/
CATEGORIES:Lycée
END:VEVENT
BEGIN:VEVENT
DTSTART;TZID=Europe/Paris:20240530T080000
DTEND;TZID=Europe/Paris:20240530T170000
DTSTAMP:20260423T011056
CREATED:20240105T190804Z
LAST-MODIFIED:20240506T060113Z
UID:1831-1717056000-1717088400@www.apel-saint-jean-hulst.org
SUMMARY:Soirée festive APEL
DESCRIPTION:L’APEL est heureuse de vous convier avec tous les parents de l’école\, à une soirée festive d’été\n \n jeudi 30 mai \navec le groupe « Les désinvoltes »\n \n \nCela se passera dans la cour du lycée\, des 20h.\nNous espérons pouvoir vous retrouver nombreux pour ce moment de convivialité.\n  \nInscrivez-vous vite en cliquant ici !
URL:https://www.apel-saint-jean-hulst.org/event/soiree-festive-apel/
LOCATION:Grand Saint Jean\, 26\, rue du Maréchal de Lattre de Tassigny\, VERSAILLES\, Sélectionner un État :\, 78000\, France
CATEGORIES:Tous
END:VEVENT
END:VCALENDAR