
BEGIN:VCALENDAR
VERSION:2.0
PRODID:-//APEL SJH - ECPv6.15.20//NONSGML v1.0//EN
CALSCALE:GREGORIAN
METHOD:PUBLISH
X-ORIGINAL-URL:https://www.apel-saint-jean-hulst.org
X-WR-CALDESC:Évènements pour APEL SJH
REFRESH-INTERVAL;VALUE=DURATION:PT1H
X-Robots-Tag:noindex
X-PUBLISHED-TTL:PT1H
BEGIN:VTIMEZONE
TZID:Europe/Paris
BEGIN:DAYLIGHT
TZOFFSETFROM:+0100
TZOFFSETTO:+0200
TZNAME:CEST
DTSTART:20220327T010000
END:DAYLIGHT
BEGIN:STANDARD
TZOFFSETFROM:+0200
TZOFFSETTO:+0100
TZNAME:CET
DTSTART:20221030T010000
END:STANDARD
BEGIN:DAYLIGHT
TZOFFSETFROM:+0100
TZOFFSETTO:+0200
TZNAME:CEST
DTSTART:20230326T010000
END:DAYLIGHT
BEGIN:STANDARD
TZOFFSETFROM:+0200
TZOFFSETTO:+0100
TZNAME:CET
DTSTART:20231029T010000
END:STANDARD
BEGIN:DAYLIGHT
TZOFFSETFROM:+0100
TZOFFSETTO:+0200
TZNAME:CEST
DTSTART:20240331T010000
END:DAYLIGHT
BEGIN:STANDARD
TZOFFSETFROM:+0200
TZOFFSETTO:+0100
TZNAME:CET
DTSTART:20241027T010000
END:STANDARD
END:VTIMEZONE
BEGIN:VTIMEZONE
TZID:Europe/Berlin
BEGIN:DAYLIGHT
TZOFFSETFROM:+0100
TZOFFSETTO:+0200
TZNAME:CEST
DTSTART:20220327T010000
END:DAYLIGHT
BEGIN:STANDARD
TZOFFSETFROM:+0200
TZOFFSETTO:+0100
TZNAME:CET
DTSTART:20221030T010000
END:STANDARD
BEGIN:DAYLIGHT
TZOFFSETFROM:+0100
TZOFFSETTO:+0200
TZNAME:CEST
DTSTART:20230326T010000
END:DAYLIGHT
BEGIN:STANDARD
TZOFFSETFROM:+0200
TZOFFSETTO:+0100
TZNAME:CET
DTSTART:20231029T010000
END:STANDARD
BEGIN:DAYLIGHT
TZOFFSETFROM:+0100
TZOFFSETTO:+0200
TZNAME:CEST
DTSTART:20240331T010000
END:DAYLIGHT
BEGIN:STANDARD
TZOFFSETFROM:+0200
TZOFFSETTO:+0100
TZNAME:CET
DTSTART:20241027T010000
END:STANDARD
END:VTIMEZONE
BEGIN:VEVENT
DTSTART;TZID=Europe/Paris:20231109T080000
DTEND;TZID=Europe/Paris:20231109T170000
DTSTAMP:20260423T085420
CREATED:20240105T194427Z
LAST-MODIFIED:20240105T194427Z
UID:1849-1699516800-1699549200@www.apel-saint-jean-hulst.org
SUMMARY:Commission EARS
DESCRIPTION:
URL:https://www.apel-saint-jean-hulst.org/event/commission-ears/
END:VEVENT
BEGIN:VEVENT
DTSTART;TZID=Europe/Berlin:20231110T074500
DTEND;TZID=Europe/Berlin:20231110T083000
DTSTAMP:20260423T085420
CREATED:20231110T064539Z
LAST-MODIFIED:20231115T220208Z
UID:1424-1699602300-1699605000@www.apel-saint-jean-hulst.org
SUMMARY:Matinée sécurité vélo
DESCRIPTION:Nous avons accueilli avec des pains au chocolat les élèves cyclistes qui arrivaient bien équipés :  \n\nCasque\nGilet jaune\nLumière
URL:https://www.apel-saint-jean-hulst.org/event/parents-corres/
CATEGORIES:Collège,Lycée
ATTACH;FMTTYPE=image/jpeg:https://www.apel-saint-jean-hulst.org/wp-content/uploads/2023/11/SecuriteVelo.jpg
ORGANIZER;CN="APEL - Coll%C3%A8ge":MAILTO:college@apel-saint-jean-hulst.org
END:VEVENT
BEGIN:VEVENT
DTSTART;TZID=Europe/Berlin:20231114T203000
DTEND;TZID=Europe/Berlin:20231114T223000
DTSTAMP:20260423T085420
CREATED:20231118T222551Z
LAST-MODIFIED:20231118T222551Z
UID:1483-1699993800-1700001000@www.apel-saint-jean-hulst.org
SUMMARY:Soirée Vin Fromage pour les Parents Correspondants du Collège
DESCRIPTION:Nous proposons à tous les parents correspondants du collège de se retrouver pour une soirée vin fromage. Ce sera l’occasion de répondre à vos questions sur la préparation des conseils de classe qui auront lieu fin Novembre / Début Décembre pour les 5èmes à 3èmes\, et courant janvier pour les 6èmes.
URL:https://www.apel-saint-jean-hulst.org/event/soiree-vin-fromage-pour-les-parents-correspondants-du-college/
CATEGORIES:Collège
ATTACH;FMTTYPE=image/jpeg:https://www.apel-saint-jean-hulst.org/wp-content/uploads/2023/11/bottle-5146217_640-1.jpg
END:VEVENT
BEGIN:VEVENT
DTSTART;TZID=Europe/Berlin:20231124T163000
DTEND;TZID=Europe/Berlin:20231124T192000
DTSTAMP:20260423T085420
CREATED:20231115T220350Z
LAST-MODIFIED:20231115T221118Z
UID:1445-1700843400-1700853600@www.apel-saint-jean-hulst.org
SUMMARY:Ciné Club Anglais
DESCRIPTION:Come and watch a masterpiece : Master and Commander (2003) ! \nRegister here. \nStarring : Russel Crowe\, Paul Bettany\, Max Pirkis… \nThe ship’s surgeon\, Stephen Maturin\, is interested in the islands’ unique flora and fauna\, and Aubrey promises his friend several days’ exploration time…
URL:https://www.apel-saint-jean-hulst.org/event/cine-club-anglais/
LOCATION:Odeon
CATEGORIES:CinéClub
END:VEVENT
END:VCALENDAR