
BEGIN:VCALENDAR
VERSION:2.0
PRODID:-//APEL SJH - ECPv6.15.20//NONSGML v1.0//EN
CALSCALE:GREGORIAN
METHOD:PUBLISH
X-ORIGINAL-URL:https://www.apel-saint-jean-hulst.org
X-WR-CALDESC:Évènements pour APEL SJH
REFRESH-INTERVAL;VALUE=DURATION:PT1H
X-Robots-Tag:noindex
X-PUBLISHED-TTL:PT1H
BEGIN:VTIMEZONE
TZID:Europe/Berlin
BEGIN:DAYLIGHT
TZOFFSETFROM:+0100
TZOFFSETTO:+0200
TZNAME:CEST
DTSTART:20220327T010000
END:DAYLIGHT
BEGIN:STANDARD
TZOFFSETFROM:+0200
TZOFFSETTO:+0100
TZNAME:CET
DTSTART:20221030T010000
END:STANDARD
BEGIN:DAYLIGHT
TZOFFSETFROM:+0100
TZOFFSETTO:+0200
TZNAME:CEST
DTSTART:20230326T010000
END:DAYLIGHT
BEGIN:STANDARD
TZOFFSETFROM:+0200
TZOFFSETTO:+0100
TZNAME:CET
DTSTART:20231029T010000
END:STANDARD
BEGIN:DAYLIGHT
TZOFFSETFROM:+0100
TZOFFSETTO:+0200
TZNAME:CEST
DTSTART:20240331T010000
END:DAYLIGHT
BEGIN:STANDARD
TZOFFSETFROM:+0200
TZOFFSETTO:+0100
TZNAME:CET
DTSTART:20241027T010000
END:STANDARD
END:VTIMEZONE
BEGIN:VEVENT
DTSTART;TZID=Europe/Berlin:20230609T163000
DTEND;TZID=Europe/Berlin:20230609T191000
DTSTAMP:20260424T004812
CREATED:20230512T100444Z
LAST-MODIFIED:20230531T145201Z
UID:1221-1686328200-1686337800@www.apel-saint-jean-hulst.org
SUMMARY:CinéClub Anglais - Hugo Cabret
DESCRIPTION:  \n\n\n\nSynopsis : Dans le Paris des années 30\, le jeune Hugo\, douze ans\, se retrouve orphelin à la suite d’un incendie qui cause la mort de son père. Il se réfugie alors dans une gare\, derrière les horloges qu’il entretient. De son père\, il ne lui reste qu’un étrange automate que son père cherchait à restaurer avant sa mort et dont il cherche la clé – en forme de coeur – qui pourrait le faire fonctionner. En rencontrant Isabelle\, il a peut-être trouvé la clé\, mais ce n’est que le début de l’aventure. \n\nLe Cinéclub de lApel Saint Jean Hulst invite et accueille vos enfants à l’Odéon (transformé en salle de cinéma) pour la projection d’un film en ANGLAIS (sous-titré français).  Un goûter est offert (dès 16h30) avant la projection pour en faire une rencontre aussi conviviale que linguistique ! Pour des raisons dorganisation et de sécurité\, nous vous demandons d’inscrire en ligne vos enfants. \nLes inscriptions se font – en ligne – sur le site de lAPEL au plus tard jeudi soir 8 juin : cliquez ici Pas d’inscription par email ou sms. Si votre enfant inscrit ne viendra finalement pas\, merci de nous prévenir à cineclub@apel-saint-jean-hulst.org pour nous éviter de vous appeler. \nEncadrement de la séance : \nNous avons besoin de quelques parents de bonne volonté pour nous aider à encadrer la séance selon lune des trois possibilités suivantes: 16h30 à 17h00 : servir le goûter 17h00 à 19h10 : encadrer la projection 16h30 à 19h10 : toute la séance Goûter et séance sont compatibles avec une sortie de cours à 16h30. Projection à 17h00 précises\, fin à 19h07. \nSi vous êtes disponibles sur lun de ces créneaux\, merci de le préciser sur le formulaire dinscription en ligne ou de contacter cineclub@apel-saint-jean-hulst.org. \nNous projetterons en VO « Hugo Cabret » un film de Martin Scorcese\, 11 nominations aux Oscars\, sorti en 2011; la durée est de 2h 07 mn
URL:https://www.apel-saint-jean-hulst.org/event/cineclub-anglais-hugo-cabret/
LOCATION:Odeon
CATEGORIES:CinéClub,Collège
ORGANIZER;CN="APEL - Coll%C3%A8ge":MAILTO:college@apel-saint-jean-hulst.org
END:VEVENT
BEGIN:VEVENT
DTSTART;TZID=Europe/Berlin:20230617T100000
DTEND;TZID=Europe/Berlin:20230617T120000
DTSTAMP:20260424T004812
CREATED:20230605T091156Z
LAST-MODIFIED:20230605T091156Z
UID:1333-1686996000-1687003200@www.apel-saint-jean-hulst.org
SUMMARY:Accueil des nouvelles familles
DESCRIPTION:Un café est offert par l’APEL à l’occasion de l’accueil des nouvelles familles et de leur visite du collège
URL:https://www.apel-saint-jean-hulst.org/event/accueil-des-nouvelles-familles/
CATEGORIES:Collège
ATTACH;FMTTYPE=image/jpeg:https://www.apel-saint-jean-hulst.org/wp-content/uploads/2023/06/Accueil-nouvelles-familles-1260x709-1.jpg
END:VEVENT
BEGIN:VEVENT
DTSTART;TZID=Europe/Berlin:20230622T080000
DTEND;TZID=Europe/Berlin:20230623T170000
DTSTAMP:20260424T004812
CREATED:20230512T102205Z
LAST-MODIFIED:20230512T102205Z
UID:1231-1687420800-1687539600@www.apel-saint-jean-hulst.org
SUMMARY:Soutenance Stages 2ndes
DESCRIPTION:Le contenu est en cours de mise à jour
URL:https://www.apel-saint-jean-hulst.org/event/soutenance-stages-2ndes/
LOCATION:Lycée SJH
CATEGORIES:Lycée
ATTACH;FMTTYPE=image/jpeg:https://www.apel-saint-jean-hulst.org/wp-content/uploads/2023/05/Lycee-Soutenance-Stage.jpg
END:VEVENT
BEGIN:VEVENT
DTSTART;TZID=Europe/Berlin:20230623T163000
DTEND;TZID=Europe/Berlin:20230623T180000
DTSTAMP:20260424T004812
CREATED:20230607T140437Z
LAST-MODIFIED:20230607T140455Z
UID:1346-1687537800-1687543200@www.apel-saint-jean-hulst.org
SUMMARY:Fête des CM2
DESCRIPTION:Nouveauté au primaire: la fête des CM2! Le 23 juin l’Apel organise un temps festif (goûter\, jeux et autres surprises) pour célébrer la fin du primaire des CM2! \nVendredi 23 juin 2023\, 16h30 à 18h
URL:https://www.apel-saint-jean-hulst.org/event/fete-des-cm2/
CATEGORIES:Primaire
ATTACH;FMTTYPE=image/jpeg:https://www.apel-saint-jean-hulst.org/wp-content/uploads/2023/06/primaire-cm2-fete.jpg
END:VEVENT
END:VCALENDAR