
BEGIN:VCALENDAR
VERSION:2.0
PRODID:-//APEL SJH - ECPv6.15.20//NONSGML v1.0//EN
CALSCALE:GREGORIAN
METHOD:PUBLISH
X-ORIGINAL-URL:https://www.apel-saint-jean-hulst.org
X-WR-CALDESC:Évènements pour APEL SJH
REFRESH-INTERVAL;VALUE=DURATION:PT1H
X-Robots-Tag:noindex
X-PUBLISHED-TTL:PT1H
BEGIN:VTIMEZONE
TZID:Europe/Berlin
BEGIN:DAYLIGHT
TZOFFSETFROM:+0100
TZOFFSETTO:+0200
TZNAME:CEST
DTSTART:20220327T010000
END:DAYLIGHT
BEGIN:STANDARD
TZOFFSETFROM:+0200
TZOFFSETTO:+0100
TZNAME:CET
DTSTART:20221030T010000
END:STANDARD
BEGIN:DAYLIGHT
TZOFFSETFROM:+0100
TZOFFSETTO:+0200
TZNAME:CEST
DTSTART:20230326T010000
END:DAYLIGHT
BEGIN:STANDARD
TZOFFSETFROM:+0200
TZOFFSETTO:+0100
TZNAME:CET
DTSTART:20231029T010000
END:STANDARD
BEGIN:DAYLIGHT
TZOFFSETFROM:+0100
TZOFFSETTO:+0200
TZNAME:CEST
DTSTART:20240331T010000
END:DAYLIGHT
BEGIN:STANDARD
TZOFFSETFROM:+0200
TZOFFSETTO:+0100
TZNAME:CET
DTSTART:20241027T010000
END:STANDARD
END:VTIMEZONE
BEGIN:VEVENT
DTSTART;TZID=Europe/Berlin:20230701T080000
DTEND;TZID=Europe/Berlin:20230701T170000
DTSTAMP:20260421T120719
CREATED:20230512T102445Z
LAST-MODIFIED:20230512T102445Z
UID:1238-1688198400-1688230800@www.apel-saint-jean-hulst.org
SUMMARY:Fête de l'école
DESCRIPTION:Le contenu est en cours de mise à jour.
URL:https://www.apel-saint-jean-hulst.org/event/fete-de-lecole/
CATEGORIES:Primaire
ATTACH;FMTTYPE=image/jpeg:https://www.apel-saint-jean-hulst.org/wp-content/uploads/2023/05/ecole-fete.jpg
ORGANIZER;CN="Apel SJH":MAILTO:apel@apel-saint-jean-hulst.org
END:VEVENT
BEGIN:VEVENT
DTSTART;TZID=Europe/Berlin:20230623T163000
DTEND;TZID=Europe/Berlin:20230623T180000
DTSTAMP:20260421T120719
CREATED:20230607T140437Z
LAST-MODIFIED:20230607T140455Z
UID:1346-1687537800-1687543200@www.apel-saint-jean-hulst.org
SUMMARY:Fête des CM2
DESCRIPTION:Nouveauté au primaire: la fête des CM2! Le 23 juin l’Apel organise un temps festif (goûter\, jeux et autres surprises) pour célébrer la fin du primaire des CM2! \nVendredi 23 juin 2023\, 16h30 à 18h
URL:https://www.apel-saint-jean-hulst.org/event/fete-des-cm2/
CATEGORIES:Primaire
ATTACH;FMTTYPE=image/jpeg:https://www.apel-saint-jean-hulst.org/wp-content/uploads/2023/06/primaire-cm2-fete.jpg
END:VEVENT
BEGIN:VEVENT
DTSTART;VALUE=DATE:20230411
DTEND;VALUE=DATE:20230415
DTSTAMP:20260421T120719
CREATED:20230320T161623Z
LAST-MODIFIED:20230320T161737Z
UID:942-1681171200-1681516799@www.apel-saint-jean-hulst.org
SUMMARY:Semaine de la trottinette
DESCRIPTION:L’APEL est très heureuse d’organiser cette année encore la Semaine de la trottinette afin de sensibiliser les enfants à la sécurité routière tout en s’amusant. \nDu 11 au 14 avril 2023\nPlus d’information cliquez ici
URL:https://www.apel-saint-jean-hulst.org/event/semaine-de-la-trottinette/
CATEGORIES:Primaire,Semaine de la trottinette
ATTACH;FMTTYPE=image/jpeg:https://www.apel-saint-jean-hulst.org/wp-content/uploads/2023/03/110423-securite-1260x470-1.jpg
END:VEVENT
BEGIN:VEVENT
DTSTART;TZID=Europe/Berlin:20230401T090000
DTEND;TZID=Europe/Berlin:20230401T110000
DTSTAMP:20260421T120719
CREATED:20230320T160828Z
LAST-MODIFIED:20230320T160835Z
UID:936-1680339600-1680346800@www.apel-saint-jean-hulst.org
SUMMARY:Café des parents
DESCRIPTION:L’APEL est très heureuse de vous accueillir à un café des parents où vous pourrez échanger avec nous\, mais aussi retrouver ou faire la connaissance des autres parents. Un moment toujours très convivial\, alors n’hésitez pas…venez nombreux ! \nSamedi 1 avril de 9h00 à 11h.\nPlus d’information cliquez ici
URL:https://www.apel-saint-jean-hulst.org/event/cafe-des-parents/
CATEGORIES:Café des Parents,Primaire
ATTACH;FMTTYPE=image/jpeg:https://www.apel-saint-jean-hulst.org/wp-content/uploads/2023/03/010423-cafe-1260x470-1.jpg
END:VEVENT
END:VCALENDAR