
BEGIN:VCALENDAR
VERSION:2.0
PRODID:-//APEL SJH - ECPv6.15.20//NONSGML v1.0//EN
CALSCALE:GREGORIAN
METHOD:PUBLISH
X-ORIGINAL-URL:https://www.apel-saint-jean-hulst.org
X-WR-CALDESC:Évènements pour APEL SJH
REFRESH-INTERVAL;VALUE=DURATION:PT1H
X-Robots-Tag:noindex
X-PUBLISHED-TTL:PT1H
BEGIN:VTIMEZONE
TZID:Europe/Paris
BEGIN:DAYLIGHT
TZOFFSETFROM:+0100
TZOFFSETTO:+0200
TZNAME:CEST
DTSTART:20240331T010000
END:DAYLIGHT
BEGIN:STANDARD
TZOFFSETFROM:+0200
TZOFFSETTO:+0100
TZNAME:CET
DTSTART:20241027T010000
END:STANDARD
BEGIN:DAYLIGHT
TZOFFSETFROM:+0100
TZOFFSETTO:+0200
TZNAME:CEST
DTSTART:20250330T010000
END:DAYLIGHT
BEGIN:STANDARD
TZOFFSETFROM:+0200
TZOFFSETTO:+0100
TZNAME:CET
DTSTART:20251026T010000
END:STANDARD
BEGIN:DAYLIGHT
TZOFFSETFROM:+0100
TZOFFSETTO:+0200
TZNAME:CEST
DTSTART:20260329T010000
END:DAYLIGHT
BEGIN:STANDARD
TZOFFSETFROM:+0200
TZOFFSETTO:+0100
TZNAME:CET
DTSTART:20261025T010000
END:STANDARD
END:VTIMEZONE
BEGIN:VEVENT
DTSTART;TZID=Europe/Paris:20250116T080000
DTEND;TZID=Europe/Paris:20250116T170000
DTSTAMP:20260422T120512
CREATED:20241018T135606Z
LAST-MODIFIED:20241018T135635Z
UID:2456-1737014400-1737046800@www.apel-saint-jean-hulst.org
SUMMARY:Commission EARS (Education Affective\, Relationnelle et Sexuelle)
DESCRIPTION:Chers parents d’élèves\, n’hésitez pas à faire vos remontées\, en amont de la commission\, en adressant un email à la commission des membres de l’APEL qui y participent : commission-ears@apel-saint-jean-hulst.org
URL:https://www.apel-saint-jean-hulst.org/event/commission-ears-education-affective-relationnelle-et-sexuelle-3/
END:VEVENT
END:VCALENDAR