
BEGIN:VCALENDAR
VERSION:2.0
PRODID:-//APEL SJH - ECPv6.15.20//NONSGML v1.0//EN
CALSCALE:GREGORIAN
METHOD:PUBLISH
X-WR-CALNAME:APEL SJH
X-ORIGINAL-URL:https://www.apel-saint-jean-hulst.org
X-WR-CALDESC:Évènements pour APEL SJH
REFRESH-INTERVAL;VALUE=DURATION:PT1H
X-Robots-Tag:noindex
X-PUBLISHED-TTL:PT1H
BEGIN:VTIMEZONE
TZID:Europe/Paris
BEGIN:DAYLIGHT
TZOFFSETFROM:+0100
TZOFFSETTO:+0200
TZNAME:CEST
DTSTART:20230326T010000
END:DAYLIGHT
BEGIN:STANDARD
TZOFFSETFROM:+0200
TZOFFSETTO:+0100
TZNAME:CET
DTSTART:20231029T010000
END:STANDARD
BEGIN:DAYLIGHT
TZOFFSETFROM:+0100
TZOFFSETTO:+0200
TZNAME:CEST
DTSTART:20240331T010000
END:DAYLIGHT
BEGIN:STANDARD
TZOFFSETFROM:+0200
TZOFFSETTO:+0100
TZNAME:CET
DTSTART:20241027T010000
END:STANDARD
BEGIN:DAYLIGHT
TZOFFSETFROM:+0100
TZOFFSETTO:+0200
TZNAME:CEST
DTSTART:20250330T010000
END:DAYLIGHT
BEGIN:STANDARD
TZOFFSETFROM:+0200
TZOFFSETTO:+0100
TZNAME:CET
DTSTART:20251026T010000
END:STANDARD
END:VTIMEZONE
BEGIN:VEVENT
DTSTART;TZID=Europe/Paris:20241007T183000
DTEND;TZID=Europe/Paris:20241007T220000
DTSTAMP:20260422T170200
CREATED:20240922T183117Z
LAST-MODIFIED:20241007T135650Z
UID:2335-1728325800-1728338400@www.apel-saint-jean-hulst.org
SUMMARY:Soirée de rentrée et Assemblée Générale
DESCRIPTION:  \n\n\n\n\n18h30 : messe de rentrée Parents + Communauté éducative\, célébrée par le Père Mauricio. Dans la Chapelle de St Jean \n19h30 : apéro-dînatoire pour tous\, au chaud dans le réfectoire \n20h30 : Assemblée Générale de l’Apel SJH (détail ci-dessous) \n                AG 2024 Rapport d’activité 2023-2024 \n                AG 2024 Comptes 2023-2024 et Budget 2024-2025 \n                La présentation complète projetée pendant l’AG \n                Résultats sondage numérique AG 2024-10-07 \n \n\n\n\n  \nOrdre du jour de l’Assemblée Générale Ordinaire du 7 octobre 2024 à St Jean Hulst\, Salle Odéon\, 26 rue du Mal de Lattre de Tassigny : \n– Rapport moral (rapport d’activités 2023-2024) \n– Les priorités pour l’année à venir \n– Rapport financier 2023-2024 et budget 2024-2025 \n– Votes : \n    – Approbation du rapport moral \n    – Approbation du rapport financier 2023-2024. Quitus de gestion. \n    – Vote du budget 2024-2025 \n– Résultat des élections des parents au Conseil d’Administration de l’association \n– Retour d’enquête sur le numérique au collège \nSi vous souhaitez donner votre pouvoir à un autre membre pour l’assemblée générale\, vous pouvez remplir la procuration en pièce jointe et soit la renvoyer à Apel Saint-Jean-Hulst\, 26 rue du Maréchal de Lattre de Tassigny 78000 Versailles\, soit la remettre sous enveloppe au nom de l’Apel à l’accueil de St Jean\, soit l’envoyer à apel@apel-saint-jean-hulst.org\, avant le 4 octobre 2023. \nAG 2024 Rapport d’activité 2023-2024 \nAG 2024 Comptes 2023-2024 et Budget 2024-2025 \nLa présentation complète projetée pendant l’AG \nRésultats sondage numérique AG 2024-10-07 \n  \n  \n 
URL:https://www.apel-saint-jean-hulst.org/event/soiree-de-rentree-et-assemblee-generale/
LOCATION:Odeon
END:VEVENT
END:VCALENDAR