
BEGIN:VCALENDAR
VERSION:2.0
PRODID:-//APEL SJH - ECPv6.15.20//NONSGML v1.0//EN
CALSCALE:GREGORIAN
METHOD:PUBLISH
X-WR-CALNAME:APEL SJH
X-ORIGINAL-URL:https://www.apel-saint-jean-hulst.org
X-WR-CALDESC:Évènements pour APEL SJH
REFRESH-INTERVAL;VALUE=DURATION:PT1H
X-Robots-Tag:noindex
X-PUBLISHED-TTL:PT1H
BEGIN:VTIMEZONE
TZID:Europe/Paris
BEGIN:DAYLIGHT
TZOFFSETFROM:+0100
TZOFFSETTO:+0200
TZNAME:CEST
DTSTART:20230326T010000
END:DAYLIGHT
BEGIN:STANDARD
TZOFFSETFROM:+0200
TZOFFSETTO:+0100
TZNAME:CET
DTSTART:20231029T010000
END:STANDARD
BEGIN:DAYLIGHT
TZOFFSETFROM:+0100
TZOFFSETTO:+0200
TZNAME:CEST
DTSTART:20240331T010000
END:DAYLIGHT
BEGIN:STANDARD
TZOFFSETFROM:+0200
TZOFFSETTO:+0100
TZNAME:CET
DTSTART:20241027T010000
END:STANDARD
BEGIN:DAYLIGHT
TZOFFSETFROM:+0100
TZOFFSETTO:+0200
TZNAME:CEST
DTSTART:20250330T010000
END:DAYLIGHT
BEGIN:STANDARD
TZOFFSETFROM:+0200
TZOFFSETTO:+0100
TZNAME:CET
DTSTART:20251026T010000
END:STANDARD
END:VTIMEZONE
BEGIN:VEVENT
DTSTART;TZID=Europe/Paris:20240426T163000
DTEND;TZID=Europe/Paris:20240426T183000
DTSTAMP:20260423T023754
CREATED:20240402T191029Z
LAST-MODIFIED:20240402T195549Z
UID:2121-1714149000-1714156200@www.apel-saint-jean-hulst.org
SUMMARY:Ciné Club Collège Anglais
DESCRIPTION:Le Cinéclub de l’APEL Saint Jean Hulst invite et accueille vos enfants à l’Odéon (transformé en salle de cinéma) pour la projection d’un film en Anglais (sous-titré français).   \nUn goûter est offert (dès 16h30) avant la projection pour en faire une rencontre aussi conviviale que linguistique !   \nPour des raisons d’organisation et de sécurité\, nous vous demandons d’inscrire en ligne vos enfants au plus tard [Date à venir] : cliquez ici [Lien à venir] \nSi votre enfant inscrit ne viendra finalement pas\, merci de nous prévenir à cineclub@apel-saint-jean-hulst.org pour nous éviter de vous appeler.  \nGoûter et séance sont compatibles avec une sortie de cours à 16h30. Projection à 17h00 précises\, fin à [Heure de fin à venir]. \nNous projetterons en VO « Living »\, film de 2023 de Oliver Hermanus avec Bill Nighy. \n  \nSynopsis : Londres\, 1953. Un fonctionnaire sans histoire voit sa vie chamboulée lorsqu’il apprend que son cancer a gagné du terrain\, et qu’il n’a plus que quelques mois à vivre. Ayant depuis trop longtemps vécu une existence sans exaltation ni surprise ou chambardement\, la nouvelle pousse le principal intéressé à revoir ses choix de vie sous un autre angle\, et à se questionner sur la façon dont il doit profiter du temps qu’il lui reste\, et le legs qui lui survivra. Il forme dès lors une amitié improbable avec une ancienne collègue de travail\, qui devient pour lui une complice et une confidente.
URL:https://www.apel-saint-jean-hulst.org/event/cine-club-college-anglais/
LOCATION:Odeon
CATEGORIES:CinéClub
ATTACH;FMTTYPE=image/jpeg:https://www.apel-saint-jean-hulst.org/wp-content/uploads/2024/04/Living.jpg
END:VEVENT
END:VCALENDAR