
BEGIN:VCALENDAR
VERSION:2.0
PRODID:-//APEL SJH - ECPv6.15.20//NONSGML v1.0//EN
CALSCALE:GREGORIAN
METHOD:PUBLISH
X-ORIGINAL-URL:https://www.apel-saint-jean-hulst.org
X-WR-CALDESC:Évènements pour APEL SJH
REFRESH-INTERVAL;VALUE=DURATION:PT1H
X-Robots-Tag:noindex
X-PUBLISHED-TTL:PT1H
BEGIN:VTIMEZONE
TZID:Europe/Paris
BEGIN:DAYLIGHT
TZOFFSETFROM:+0100
TZOFFSETTO:+0200
TZNAME:CEST
DTSTART:20230326T010000
END:DAYLIGHT
BEGIN:STANDARD
TZOFFSETFROM:+0200
TZOFFSETTO:+0100
TZNAME:CET
DTSTART:20231029T010000
END:STANDARD
BEGIN:DAYLIGHT
TZOFFSETFROM:+0100
TZOFFSETTO:+0200
TZNAME:CEST
DTSTART:20240331T010000
END:DAYLIGHT
BEGIN:STANDARD
TZOFFSETFROM:+0200
TZOFFSETTO:+0100
TZNAME:CET
DTSTART:20241027T010000
END:STANDARD
BEGIN:DAYLIGHT
TZOFFSETFROM:+0100
TZOFFSETTO:+0200
TZNAME:CEST
DTSTART:20250330T010000
END:DAYLIGHT
BEGIN:STANDARD
TZOFFSETFROM:+0200
TZOFFSETTO:+0100
TZNAME:CET
DTSTART:20251026T010000
END:STANDARD
END:VTIMEZONE
BEGIN:VEVENT
DTSTART;TZID=Europe/Paris:20240423T080000
DTEND;TZID=Europe/Paris:20240423T170000
DTSTAMP:20260423T023946
CREATED:20240105T190228Z
LAST-MODIFIED:20241018T135950Z
UID:1819-1713859200-1713891600@www.apel-saint-jean-hulst.org
SUMMARY:Commission Restauration
DESCRIPTION:Une Commission Restauration se réunit à échéances régulières pour évaluer la qualité des repas (quantité\, équilibre\, durée\, coût). \nL’Apel participe à chacune d’elle et a besoin de connaître les remarques importantes qui doivent être faite en votre nom et celui des élèves demi-pensionnaires ». \nParents d’élèves\, n’hésitez donc pas à faire vos remontées\, en amont de la commission\, en adressant un email à commission-restauration@apel-saint-jean-hulst.org
URL:https://www.apel-saint-jean-hulst.org/event/commission-restauration-2/
CATEGORIES:Tous
END:VEVENT
END:VCALENDAR