
BEGIN:VCALENDAR
VERSION:2.0
PRODID:-//APEL SJH - ECPv6.15.20//NONSGML v1.0//EN
CALSCALE:GREGORIAN
METHOD:PUBLISH
X-ORIGINAL-URL:https://www.apel-saint-jean-hulst.org
X-WR-CALDESC:Évènements pour APEL SJH
REFRESH-INTERVAL;VALUE=DURATION:PT1H
X-Robots-Tag:noindex
X-PUBLISHED-TTL:PT1H
BEGIN:VTIMEZONE
TZID:Europe/Paris
BEGIN:DAYLIGHT
TZOFFSETFROM:+0100
TZOFFSETTO:+0200
TZNAME:CEST
DTSTART:20230326T010000
END:DAYLIGHT
BEGIN:STANDARD
TZOFFSETFROM:+0200
TZOFFSETTO:+0100
TZNAME:CET
DTSTART:20231029T010000
END:STANDARD
BEGIN:DAYLIGHT
TZOFFSETFROM:+0100
TZOFFSETTO:+0200
TZNAME:CEST
DTSTART:20240331T010000
END:DAYLIGHT
BEGIN:STANDARD
TZOFFSETFROM:+0200
TZOFFSETTO:+0100
TZNAME:CET
DTSTART:20241027T010000
END:STANDARD
BEGIN:DAYLIGHT
TZOFFSETFROM:+0100
TZOFFSETTO:+0200
TZNAME:CEST
DTSTART:20250330T010000
END:DAYLIGHT
BEGIN:STANDARD
TZOFFSETFROM:+0200
TZOFFSETTO:+0100
TZNAME:CET
DTSTART:20251026T010000
END:STANDARD
END:VTIMEZONE
BEGIN:VEVENT
DTSTART;TZID=Europe/Paris:20240323T080000
DTEND;TZID=Europe/Paris:20240323T170000
DTSTAMP:20260423T042321
CREATED:20240105T190601Z
LAST-MODIFIED:20240307T205923Z
UID:1827-1711180800-1711213200@www.apel-saint-jean-hulst.org
SUMMARY:Simulation d'entretien pour les Terminales
DESCRIPTION:
URL:https://www.apel-saint-jean-hulst.org/event/entretien-tales/
CATEGORIES:Lycée,Terminale
END:VEVENT
BEGIN:VEVENT
DTSTART;TZID=Europe/Paris:20240323T080000
DTEND;TZID=Europe/Paris:20240323T170000
DTSTAMP:20260423T042321
CREATED:20240105T190919Z
LAST-MODIFIED:20240105T190919Z
UID:1833-1711180800-1711213200@www.apel-saint-jean-hulst.org
SUMMARY:Café Primaire
DESCRIPTION:
URL:https://www.apel-saint-jean-hulst.org/event/cafe-primaire/
CATEGORIES:Café des Parents,Primaire
END:VEVENT
BEGIN:VEVENT
DTSTART;TZID=Europe/Paris:20240323T083000
DTEND;TZID=Europe/Paris:20240323T100000
DTSTAMP:20260423T042321
CREATED:20240307T205655Z
LAST-MODIFIED:20240313T091315Z
UID:2073-1711182600-1711188000@www.apel-saint-jean-hulst.org
SUMMARY:Conférence Claire Thouvenot "Accompagner son enfant dans ses apprentissages"
DESCRIPTION:« Accompagner son enfant dans ses apprentissages » par Claire Thouvenot \nSamedi 23 mars à partir de 8h30 en Salle Soleil \n(samedi matin travaillé au primaire) \n16 rue Rémilly\, 78000 Versailles \nNous vous attendons nombreux !
URL:https://www.apel-saint-jean-hulst.org/event/conference-claire-thouvenot-accompagner-son-enfant-dans-ses-apprentissages/
LOCATION:Primaire\, 16 rue Remilly\, VERSAILLES\, 78000\, France
ORGANIZER;CN="Apel SJH":MAILTO:apel@apel-saint-jean-hulst.org
END:VEVENT
END:VCALENDAR