
BEGIN:VCALENDAR
VERSION:2.0
PRODID:-//APEL SJH - ECPv6.15.20//NONSGML v1.0//EN
CALSCALE:GREGORIAN
METHOD:PUBLISH
X-ORIGINAL-URL:https://www.apel-saint-jean-hulst.org
X-WR-CALDESC:Évènements pour APEL SJH
REFRESH-INTERVAL;VALUE=DURATION:PT1H
X-Robots-Tag:noindex
X-PUBLISHED-TTL:PT1H
BEGIN:VTIMEZONE
TZID:Europe/Paris
BEGIN:DAYLIGHT
TZOFFSETFROM:+0100
TZOFFSETTO:+0200
TZNAME:CEST
DTSTART:20230326T010000
END:DAYLIGHT
BEGIN:STANDARD
TZOFFSETFROM:+0200
TZOFFSETTO:+0100
TZNAME:CET
DTSTART:20231029T010000
END:STANDARD
BEGIN:DAYLIGHT
TZOFFSETFROM:+0100
TZOFFSETTO:+0200
TZNAME:CEST
DTSTART:20240331T010000
END:DAYLIGHT
BEGIN:STANDARD
TZOFFSETFROM:+0200
TZOFFSETTO:+0100
TZNAME:CET
DTSTART:20241027T010000
END:STANDARD
BEGIN:DAYLIGHT
TZOFFSETFROM:+0100
TZOFFSETTO:+0200
TZNAME:CEST
DTSTART:20250330T010000
END:DAYLIGHT
BEGIN:STANDARD
TZOFFSETFROM:+0200
TZOFFSETTO:+0100
TZNAME:CET
DTSTART:20251026T010000
END:STANDARD
END:VTIMEZONE
BEGIN:VEVENT
DTSTART;TZID=Europe/Paris:20240208T080000
DTEND;TZID=Europe/Paris:20240208T170000
DTSTAMP:20260423T055051
CREATED:20240105T184929Z
LAST-MODIFIED:20240110T175219Z
UID:1813-1707379200-1707411600@www.apel-saint-jean-hulst.org
SUMMARY:Conseil pastoral
DESCRIPTION:Le projet pastoral de SJH est soutenu et menés par une communauté de laïcs engagés pour nos enfants\, de bénévoles et bien sûr de pères eudistes et diocésains. \nUn Conseil pastoral auquel l’Apel est convié\, se réunit à échéances régulières pour faire le point sur les actions mises en oeuvre et les nouveaux projets à venir. \nNous avons donc besoin\, à ce titre\, de vos contributions\, remarques\, suggestions afin de faire valoir votre parole auprès des parties prenantes à ce conseil. \nParents d’élèves\, n’hésitez donc pas à faire vos remontées\, en amont du conseil\, en adressant un email à commission-pastorale@apel-saint-jean-hulst.org
URL:https://www.apel-saint-jean-hulst.org/event/conseil-pastoral/
CATEGORIES:Tous
END:VEVENT
BEGIN:VEVENT
DTSTART;TZID=Europe/Paris:20240208T200000
DTEND;TZID=Europe/Paris:20240208T213000
DTSTAMP:20260423T055051
CREATED:20240128T204434Z
LAST-MODIFIED:20240128T204831Z
UID:2023-1707422400-1707427800@www.apel-saint-jean-hulst.org
SUMMARY:Conférence (sur Teams) : Accompagner la formulation des voeux sur Parcoursup
DESCRIPTION:Nous avons le plaisir de vous convier à la conférence : Accompagner la formulation des voeux sur Parcoursup\,  jeudi 8 février 2024 à 20h (en visio via Teams) \nPour vous inscrire : CLIQUEZ ICI \nAu programme : \nVotre enfant se prépare à formuler ses vœux sur la plateforme nationale Parcoursup\, permettant de candidater à l’entrée dans l’Enseignement supérieur ? \nAfin de l’accompagner au mieux dans cette étape importante\, participez au second webinaire de l’année 2023-2024 organisé par le service Information et conseil aux familles (ICF) de l’Apel nationale\, avec la participation de Monsieur Jérôme TEILLARD\, chef de projet « réforme de l’accès à l’enseignement supérieur-Parcoursup » au ministère de l’enseignement supérieur. \nNotre intervenante : \nPrésenté par Catherine ROMUALD et animé par Hélène LAUBIGNAT\, membres du bureau national de l’Apel\, ce webinaire vous permettra de connaître et comprendre les principes clés de la formulation des vœux sur Parcoursup\, de bénéficier de conseils pratiques\, et de découvrir les nouveautés 2024 proposées par la plateforme.
URL:https://www.apel-saint-jean-hulst.org/event/accompagner-la-formulation-des-voeux-sur-parcoursup/
CATEGORIES:Lycée
ATTACH;FMTTYPE=image/png:https://www.apel-saint-jean-hulst.org/wp-content/uploads/2024/01/Capture-decran-2024-01-28-214540.png
END:VEVENT
END:VCALENDAR