
BEGIN:VCALENDAR
VERSION:2.0
PRODID:-//APEL SJH - ECPv6.15.20//NONSGML v1.0//EN
CALSCALE:GREGORIAN
METHOD:PUBLISH
X-ORIGINAL-URL:https://www.apel-saint-jean-hulst.org
X-WR-CALDESC:Évènements pour APEL SJH
REFRESH-INTERVAL;VALUE=DURATION:PT1H
X-Robots-Tag:noindex
X-PUBLISHED-TTL:PT1H
BEGIN:VTIMEZONE
TZID:Europe/Paris
BEGIN:DAYLIGHT
TZOFFSETFROM:+0100
TZOFFSETTO:+0200
TZNAME:CEST
DTSTART:20230326T010000
END:DAYLIGHT
BEGIN:STANDARD
TZOFFSETFROM:+0200
TZOFFSETTO:+0100
TZNAME:CET
DTSTART:20231029T010000
END:STANDARD
BEGIN:DAYLIGHT
TZOFFSETFROM:+0100
TZOFFSETTO:+0200
TZNAME:CEST
DTSTART:20240331T010000
END:DAYLIGHT
BEGIN:STANDARD
TZOFFSETFROM:+0200
TZOFFSETTO:+0100
TZNAME:CET
DTSTART:20241027T010000
END:STANDARD
BEGIN:DAYLIGHT
TZOFFSETFROM:+0100
TZOFFSETTO:+0200
TZNAME:CEST
DTSTART:20250330T010000
END:DAYLIGHT
BEGIN:STANDARD
TZOFFSETFROM:+0200
TZOFFSETTO:+0100
TZNAME:CET
DTSTART:20251026T010000
END:STANDARD
END:VTIMEZONE
BEGIN:VEVENT
DTSTART;TZID=Europe/Paris:20240202T163000
DTEND;TZID=Europe/Paris:20240202T190000
DTSTAMP:20260423T060119
CREATED:20231219T072925Z
LAST-MODIFIED:20240127T181305Z
UID:1775-1706891400-1706900400@www.apel-saint-jean-hulst.org
SUMMARY:Ciné Club Collège Allemand
DESCRIPTION:Le Cinéclub de l’APEL Saint Jean Hulst invite et accueille vos enfants à l’Odéon (transformé en salle de cinéma) pour la projection d’un film en Allemand (sous-titré français).   \nUn goûter est offert (dès 16h30) avant la projection pour en faire une rencontre aussi conviviale que linguistique !   \nPour des raisons d’organisation et de sécurité\, nous vous demandons d’inscrire en ligne vos enfants au plus tard jeudi soir 1er Février :    cliquez ici   \nSi votre enfant inscrit ne viendra finalement pas\, merci de nous prévenir à cineclub@apel-saint-jean-hulst.org pour nous éviter de vous appeler.  \nGoûter et séance sont compatibles avec une sortie de cours à 16h30. Projection à 17h00 précises\, fin à 18h35. \nNous projetterons en VO « Funf Freunde 3-  » un film de Mike Marzuk\, sorti en 2012\, la durée est de 1h 35 mn  \n  \n\n\n\nSynopsis : Ce sont les vacances et nos cinq amis ont la chance de les passer sur une île paradisiaque. Au cours d’une plongée sur une vieille épave\, ils découvrent un étrange boîtier en laiton. Ils reconnaissent alors la boussole d’une vieille légende pirate indiquant l’emplacement d’un trésor. Il n’en faut pas plus à nos jeunes héros pour se lancer dans l’aventure. Mais ils ne seront pas seuls… Ils devront faire face à un investisseur sans scrupule qui veut transformer l’île en complexe touristique\, et à un mystérieux couple de gangsters.\n\n\n\n 
URL:https://www.apel-saint-jean-hulst.org/event/cine-club-2/
CATEGORIES:CinéClub
END:VEVENT
END:VCALENDAR