
BEGIN:VCALENDAR
VERSION:2.0
PRODID:-//APEL SJH - ECPv6.15.20//NONSGML v1.0//EN
CALSCALE:GREGORIAN
METHOD:PUBLISH
X-WR-CALNAME:APEL SJH
X-ORIGINAL-URL:https://www.apel-saint-jean-hulst.org
X-WR-CALDESC:Évènements pour APEL SJH
REFRESH-INTERVAL;VALUE=DURATION:PT1H
X-Robots-Tag:noindex
X-PUBLISHED-TTL:PT1H
BEGIN:VTIMEZONE
TZID:Europe/Paris
BEGIN:DAYLIGHT
TZOFFSETFROM:+0100
TZOFFSETTO:+0200
TZNAME:CEST
DTSTART:20230326T010000
END:DAYLIGHT
BEGIN:STANDARD
TZOFFSETFROM:+0200
TZOFFSETTO:+0100
TZNAME:CET
DTSTART:20231029T010000
END:STANDARD
BEGIN:DAYLIGHT
TZOFFSETFROM:+0100
TZOFFSETTO:+0200
TZNAME:CEST
DTSTART:20240331T010000
END:DAYLIGHT
BEGIN:STANDARD
TZOFFSETFROM:+0200
TZOFFSETTO:+0100
TZNAME:CET
DTSTART:20241027T010000
END:STANDARD
BEGIN:DAYLIGHT
TZOFFSETFROM:+0100
TZOFFSETTO:+0200
TZNAME:CEST
DTSTART:20250330T010000
END:DAYLIGHT
BEGIN:STANDARD
TZOFFSETFROM:+0200
TZOFFSETTO:+0100
TZNAME:CET
DTSTART:20251026T010000
END:STANDARD
END:VTIMEZONE
BEGIN:VEVENT
DTSTART;TZID=Europe/Paris:20240125T200000
DTEND;TZID=Europe/Paris:20240125T213000
DTSTAMP:20260423T073016
CREATED:20240109T095241Z
LAST-MODIFIED:20240109T095404Z
UID:1882-1706212800-1706218200@www.apel-saint-jean-hulst.org
SUMMARY:Conférence (sur Teams) : Pas à pas sur la plateforme Parcoursup
DESCRIPTION:Chers Parents\, l’Apel Académique de Versailles et les Apel départementales des Yvelines\, de l’Essonne\, des Hauts de Seine et du Val d’Oise sont heureuses de vous convier à la 6ème conférence du Passeport Orientation proposé pour l’année scolaire 2023-2024\, afin d’accompagner les parents au plus près sur toutes les questions liées à l’orientation. \nNous avons donc le plaisir de vous convier à la conférence : Pas à pas sur la plateforme Parcoursup\,  jeudi 25 Janvier 2024 à 20h (en visio via Teams) \nPour vous inscrire : CLIQUEZ ICI \n  \nAu programme : \nToutes les étapes à suivre de l’inscription à la formulation des vœux sur Parcoursup.‍ Une lecture précise de chacune des étapes. \nNotre intervenante : \nViolaine Bigot a eu la charge du suivi des réformes des lycées pendant plus de 5 ans à l’Apel Nationale. Elle a accompagné et informé les parents au fur et à mesure des évolutions de la réforme du lycée et est animée par toutes les questions liées à l’orientation.
URL:https://www.apel-saint-jean-hulst.org/event/conference-sur-teams-pas-a-pas-sur-la-plateforme-parcoursup/
CATEGORIES:Lycée
ATTACH;FMTTYPE=image/png:https://www.apel-saint-jean-hulst.org/wp-content/uploads/2024/01/Capture-decran-2024-01-09-105259.png
END:VEVENT
END:VCALENDAR