
BEGIN:VCALENDAR
VERSION:2.0
PRODID:-//APEL SJH - ECPv6.15.20//NONSGML v1.0//EN
CALSCALE:GREGORIAN
METHOD:PUBLISH
X-WR-CALNAME:APEL SJH
X-ORIGINAL-URL:https://www.apel-saint-jean-hulst.org
X-WR-CALDESC:Évènements pour APEL SJH
REFRESH-INTERVAL;VALUE=DURATION:PT1H
X-Robots-Tag:noindex
X-PUBLISHED-TTL:PT1H
BEGIN:VTIMEZONE
TZID:Europe/Berlin
BEGIN:DAYLIGHT
TZOFFSETFROM:+0100
TZOFFSETTO:+0200
TZNAME:CEST
DTSTART:20230326T010000
END:DAYLIGHT
BEGIN:STANDARD
TZOFFSETFROM:+0200
TZOFFSETTO:+0100
TZNAME:CET
DTSTART:20231029T010000
END:STANDARD
BEGIN:DAYLIGHT
TZOFFSETFROM:+0100
TZOFFSETTO:+0200
TZNAME:CEST
DTSTART:20240331T010000
END:DAYLIGHT
BEGIN:STANDARD
TZOFFSETFROM:+0200
TZOFFSETTO:+0100
TZNAME:CET
DTSTART:20241027T010000
END:STANDARD
BEGIN:DAYLIGHT
TZOFFSETFROM:+0100
TZOFFSETTO:+0200
TZNAME:CEST
DTSTART:20250330T010000
END:DAYLIGHT
BEGIN:STANDARD
TZOFFSETFROM:+0200
TZOFFSETTO:+0100
TZNAME:CET
DTSTART:20251026T010000
END:STANDARD
END:VTIMEZONE
BEGIN:VEVENT
DTSTART;TZID=Europe/Berlin:20240119T163000
DTEND;TZID=Europe/Berlin:20240119T190000
DTSTAMP:20260423T073017
CREATED:20231213T102325Z
LAST-MODIFIED:20240110T174612Z
UID:1661-1705681800-1705690800@www.apel-saint-jean-hulst.org
SUMMARY:Ciné Club Collège Anglais
DESCRIPTION:  \nLe Cinéclub de l’Apel Saint Jean Hulst invite et accueille vos enfants à l’Odéon (transformé en salle de cinéma) pour la projection d’un film en ANGLAIS (sous-titré français). \nUn goûter est offert (dès 16h30) avant la projection pour en faire une rencontre aussi conviviale que linguistique ! \nPour des raisons d’organisation et de sécurité\, nous vous demandons d’inscrire en ligne vos enfants. \nInscrivez-vous en cliquant ici \n  \nNous projetterons en VO sous-titrée en français « The kid who would be king » un film de Joe Cornish\, sorti en 2019 ; la durée est de 2 heures. \nSynopsis : Âgé de 12 ans\, Alex Elliot est un écolier comme les autres. Mais sa vie va être totalement bouleversée lorsqu’il découvre Excalibur\, l’épée magique légendaire du roi Arthur\, le roi des Bretons. Alex va devoir désormais se transformer en héros et former une équipe de chevaliers composée de ses amis\, de ses ennemis et du légendaire Merlin. Tous ensemble\, ils vont tenter de vaincre la maléfique Morgane\, venue du Moyen Âge pour détruire le monde.
URL:https://www.apel-saint-jean-hulst.org/event/cine-club/
LOCATION:Odeon
CATEGORIES:CinéClub
END:VEVENT
END:VCALENDAR