
BEGIN:VCALENDAR
VERSION:2.0
PRODID:-//APEL SJH - ECPv6.15.20//NONSGML v1.0//EN
CALSCALE:GREGORIAN
METHOD:PUBLISH
X-ORIGINAL-URL:https://www.apel-saint-jean-hulst.org
X-WR-CALDESC:Évènements pour APEL SJH
REFRESH-INTERVAL;VALUE=DURATION:PT1H
X-Robots-Tag:noindex
X-PUBLISHED-TTL:PT1H
BEGIN:VTIMEZONE
TZID:Europe/Paris
BEGIN:DAYLIGHT
TZOFFSETFROM:+0100
TZOFFSETTO:+0200
TZNAME:CEST
DTSTART:20230326T010000
END:DAYLIGHT
BEGIN:STANDARD
TZOFFSETFROM:+0200
TZOFFSETTO:+0100
TZNAME:CET
DTSTART:20231029T010000
END:STANDARD
BEGIN:DAYLIGHT
TZOFFSETFROM:+0100
TZOFFSETTO:+0200
TZNAME:CEST
DTSTART:20240331T010000
END:DAYLIGHT
BEGIN:STANDARD
TZOFFSETFROM:+0200
TZOFFSETTO:+0100
TZNAME:CET
DTSTART:20241027T010000
END:STANDARD
BEGIN:DAYLIGHT
TZOFFSETFROM:+0100
TZOFFSETTO:+0200
TZNAME:CEST
DTSTART:20250330T010000
END:DAYLIGHT
BEGIN:STANDARD
TZOFFSETFROM:+0200
TZOFFSETTO:+0100
TZNAME:CET
DTSTART:20251026T010000
END:STANDARD
END:VTIMEZONE
BEGIN:VEVENT
DTSTART;TZID=Europe/Paris:20240115T123000
DTEND;TZID=Europe/Paris:20240115T134500
DTSTAMP:20260423T073430
CREATED:20231219T072813Z
LAST-MODIFIED:20240109T073527Z
UID:1772-1705321800-1705326300@www.apel-saint-jean-hulst.org
SUMMARY:Galette du primaire
DESCRIPTION:Le 15 janvier à l’heure du déjeuner\, l’APEL partagera avec les maîtresses du primaire un café et une galette.
URL:https://www.apel-saint-jean-hulst.org/event/galette-du-primaire/
LOCATION:Primaire\, 16 rue Remilly\, VERSAILLES\, 78000\, France
CATEGORIES:Primaire
ATTACH;FMTTYPE=image/jpeg:https://www.apel-saint-jean-hulst.org/wp-content/uploads/2023/12/galette2.jpg
END:VEVENT
END:VCALENDAR