
BEGIN:VCALENDAR
VERSION:2.0
PRODID:-//APEL SJH - ECPv6.15.20//NONSGML v1.0//EN
CALSCALE:GREGORIAN
METHOD:PUBLISH
X-WR-CALNAME:APEL SJH
X-ORIGINAL-URL:https://www.apel-saint-jean-hulst.org
X-WR-CALDESC:Évènements pour APEL SJH
REFRESH-INTERVAL;VALUE=DURATION:PT1H
X-Robots-Tag:noindex
X-PUBLISHED-TTL:PT1H
BEGIN:VTIMEZONE
TZID:Europe/Paris
BEGIN:DAYLIGHT
TZOFFSETFROM:+0100
TZOFFSETTO:+0200
TZNAME:CEST
DTSTART:20230326T010000
END:DAYLIGHT
BEGIN:STANDARD
TZOFFSETFROM:+0200
TZOFFSETTO:+0100
TZNAME:CET
DTSTART:20231029T010000
END:STANDARD
BEGIN:DAYLIGHT
TZOFFSETFROM:+0100
TZOFFSETTO:+0200
TZNAME:CEST
DTSTART:20240331T010000
END:DAYLIGHT
BEGIN:STANDARD
TZOFFSETFROM:+0200
TZOFFSETTO:+0100
TZNAME:CET
DTSTART:20241027T010000
END:STANDARD
BEGIN:DAYLIGHT
TZOFFSETFROM:+0100
TZOFFSETTO:+0200
TZNAME:CEST
DTSTART:20250330T010000
END:DAYLIGHT
BEGIN:STANDARD
TZOFFSETFROM:+0200
TZOFFSETTO:+0100
TZNAME:CET
DTSTART:20251026T010000
END:STANDARD
END:VTIMEZONE
BEGIN:VEVENT
DTSTART;TZID=Europe/Paris:20240109T173000
DTEND;TZID=Europe/Paris:20240109T200000
DTSTAMP:20260423T073042
CREATED:20231219T070409Z
LAST-MODIFIED:20240105T183639Z
UID:1766-1704821400-1704830400@www.apel-saint-jean-hulst.org
SUMMARY:Galette des rois du collège
DESCRIPTION:L’équipe collège de l’APEL propose une galette des rois pour renforcer les liens entre les parents correspondants\, les professeurs principaux\, les responsables de niveau et la vie scolaire. \nNous vous attendons nombreux le 9 janvier à 17h30 dans la salle Azurs !
URL:https://www.apel-saint-jean-hulst.org/event/galette-des-rois-du-college/
LOCATION:Salle Azurs\, 26\, rue du Maréchal de Lattre de Tassigny\, VERSAILLES\, 78000\, France
CATEGORIES:Collège
ATTACH;FMTTYPE=image/webp:https://www.apel-saint-jean-hulst.org/wp-content/uploads/2023/12/galette-des-rois.webp
END:VEVENT
END:VCALENDAR