
BEGIN:VCALENDAR
VERSION:2.0
PRODID:-//APEL SJH - ECPv6.15.20//NONSGML v1.0//EN
CALSCALE:GREGORIAN
METHOD:PUBLISH
X-ORIGINAL-URL:https://www.apel-saint-jean-hulst.org
X-WR-CALDESC:Évènements pour APEL SJH
REFRESH-INTERVAL;VALUE=DURATION:PT1H
X-Robots-Tag:noindex
X-PUBLISHED-TTL:PT1H
BEGIN:VTIMEZONE
TZID:Europe/Berlin
BEGIN:DAYLIGHT
TZOFFSETFROM:+0100
TZOFFSETTO:+0200
TZNAME:CEST
DTSTART:20220327T010000
END:DAYLIGHT
BEGIN:STANDARD
TZOFFSETFROM:+0200
TZOFFSETTO:+0100
TZNAME:CET
DTSTART:20221030T010000
END:STANDARD
BEGIN:DAYLIGHT
TZOFFSETFROM:+0100
TZOFFSETTO:+0200
TZNAME:CEST
DTSTART:20230326T010000
END:DAYLIGHT
BEGIN:STANDARD
TZOFFSETFROM:+0200
TZOFFSETTO:+0100
TZNAME:CET
DTSTART:20231029T010000
END:STANDARD
BEGIN:DAYLIGHT
TZOFFSETFROM:+0100
TZOFFSETTO:+0200
TZNAME:CEST
DTSTART:20240331T010000
END:DAYLIGHT
BEGIN:STANDARD
TZOFFSETFROM:+0200
TZOFFSETTO:+0100
TZNAME:CET
DTSTART:20241027T010000
END:STANDARD
END:VTIMEZONE
BEGIN:VEVENT
DTSTART;TZID=Europe/Berlin:20231212T183000
DTEND;TZID=Europe/Berlin:20231212T200000
DTSTAMP:20260423T085523
CREATED:20231208T091350Z
LAST-MODIFIED:20231213T101944Z
UID:1553-1702405800-1702411200@www.apel-saint-jean-hulst.org
SUMMARY:WEBINAIRE ICF - APEL : Comprendre et s’approprier Parcoursup
DESCRIPTION:Votre enfant est concerné cette année par Parcoursup\, la plateforme nationale permettant de candidater à l’entrée dans l’Enseignement supérieur ?\nVous souhaitez l’accompagner au mieux dans la démarche mais vous vous sentez perdu ?\nRejoignez le premier webinaire de l’année 2023-2024 « Comprendre et s’approprier Parcoursup»\, organisé par le service Information et conseil aux familles (ICF) de l’Apel nationale. \n  \nCette soirée vous est proposée avec la participation de Monsieur Jérôme TEILLARD\, chef de projet « réforme de l’accès à l’enseignement supérieur-Parcoursup » au ministère de l’enseignement supérieur. \nPrésenté par Catherine ROMUALD et animé par Hélène LAUBIGNAT\, membres du bureau national de l’Apel\, ce webinaire vous exposera les étapes clés\, les grands principes\, et des conseils pour aborder sereinement la procédure d’admission post-bac. \n  \nJE M’INSCRIS →
URL:https://www.apel-saint-jean-hulst.org/event/webinaire-icf-apel-comprendre-et-sapproprier-parcoursup/
CATEGORIES:Lycée
ATTACH;FMTTYPE=image/png:https://www.apel-saint-jean-hulst.org/wp-content/uploads/2023/12/Capture-decran-2023-12-08-101515.png
END:VEVENT
END:VCALENDAR