
BEGIN:VCALENDAR
VERSION:2.0
PRODID:-//APEL SJH - ECPv6.15.20//NONSGML v1.0//EN
CALSCALE:GREGORIAN
METHOD:PUBLISH
X-ORIGINAL-URL:https://www.apel-saint-jean-hulst.org
X-WR-CALDESC:Évènements pour APEL SJH
REFRESH-INTERVAL;VALUE=DURATION:PT1H
X-Robots-Tag:noindex
X-PUBLISHED-TTL:PT1H
BEGIN:VTIMEZONE
TZID:Europe/Berlin
BEGIN:DAYLIGHT
TZOFFSETFROM:+0100
TZOFFSETTO:+0200
TZNAME:CEST
DTSTART:20220327T010000
END:DAYLIGHT
BEGIN:STANDARD
TZOFFSETFROM:+0200
TZOFFSETTO:+0100
TZNAME:CET
DTSTART:20221030T010000
END:STANDARD
BEGIN:DAYLIGHT
TZOFFSETFROM:+0100
TZOFFSETTO:+0200
TZNAME:CEST
DTSTART:20230326T010000
END:DAYLIGHT
BEGIN:STANDARD
TZOFFSETFROM:+0200
TZOFFSETTO:+0100
TZNAME:CET
DTSTART:20231029T010000
END:STANDARD
BEGIN:DAYLIGHT
TZOFFSETFROM:+0100
TZOFFSETTO:+0200
TZNAME:CEST
DTSTART:20240331T010000
END:DAYLIGHT
BEGIN:STANDARD
TZOFFSETFROM:+0200
TZOFFSETTO:+0100
TZNAME:CET
DTSTART:20241027T010000
END:STANDARD
END:VTIMEZONE
BEGIN:VEVENT
DTSTART;TZID=Europe/Berlin:20231114T203000
DTEND;TZID=Europe/Berlin:20231114T223000
DTSTAMP:20260423T102846
CREATED:20231118T222551Z
LAST-MODIFIED:20231118T222551Z
UID:1483-1699993800-1700001000@www.apel-saint-jean-hulst.org
SUMMARY:Soirée Vin Fromage pour les Parents Correspondants du Collège
DESCRIPTION:Nous proposons à tous les parents correspondants du collège de se retrouver pour une soirée vin fromage. Ce sera l’occasion de répondre à vos questions sur la préparation des conseils de classe qui auront lieu fin Novembre / Début Décembre pour les 5èmes à 3èmes\, et courant janvier pour les 6èmes.
URL:https://www.apel-saint-jean-hulst.org/event/soiree-vin-fromage-pour-les-parents-correspondants-du-college/
CATEGORIES:Collège
ATTACH;FMTTYPE=image/jpeg:https://www.apel-saint-jean-hulst.org/wp-content/uploads/2023/11/bottle-5146217_640-1.jpg
END:VEVENT
END:VCALENDAR