
BEGIN:VCALENDAR
VERSION:2.0
PRODID:-//APEL SJH - ECPv6.15.20//NONSGML v1.0//EN
CALSCALE:GREGORIAN
METHOD:PUBLISH
X-ORIGINAL-URL:https://www.apel-saint-jean-hulst.org
X-WR-CALDESC:Évènements pour APEL SJH
REFRESH-INTERVAL;VALUE=DURATION:PT1H
X-Robots-Tag:noindex
X-PUBLISHED-TTL:PT1H
BEGIN:VTIMEZONE
TZID:Europe/Berlin
BEGIN:DAYLIGHT
TZOFFSETFROM:+0100
TZOFFSETTO:+0200
TZNAME:CEST
DTSTART:20220327T010000
END:DAYLIGHT
BEGIN:STANDARD
TZOFFSETFROM:+0200
TZOFFSETTO:+0100
TZNAME:CET
DTSTART:20221030T010000
END:STANDARD
BEGIN:DAYLIGHT
TZOFFSETFROM:+0100
TZOFFSETTO:+0200
TZNAME:CEST
DTSTART:20230326T010000
END:DAYLIGHT
BEGIN:STANDARD
TZOFFSETFROM:+0200
TZOFFSETTO:+0100
TZNAME:CET
DTSTART:20231029T010000
END:STANDARD
BEGIN:DAYLIGHT
TZOFFSETFROM:+0100
TZOFFSETTO:+0200
TZNAME:CEST
DTSTART:20240331T010000
END:DAYLIGHT
BEGIN:STANDARD
TZOFFSETFROM:+0200
TZOFFSETTO:+0100
TZNAME:CET
DTSTART:20241027T010000
END:STANDARD
END:VTIMEZONE
BEGIN:VEVENT
DTSTART;TZID=Europe/Berlin:20231005T183000
DTEND;TZID=Europe/Berlin:20231005T233000
DTSTAMP:20260423T120010
CREATED:20230605T091322Z
LAST-MODIFIED:20231005T162130Z
UID:1337-1696530600-1696548600@www.apel-saint-jean-hulst.org
SUMMARY:Assemblée génerale de l’APEL de Saint Jean Hulst
DESCRIPTION:Jeudi 5 octobre\, vous êtes conviés au grand St Jean pour : \n\nPrier ensemble\, pour ceux qui le souhaitent\n18h30 Messe de rentrée des parents\, à laquelle sont invités tous les membres de la communauté éducative.\nFaire connaissance\n19h30 – 20h15 Accueil et apéro-buffet \nConnaître et organiser les activités de l’Apel\n20h15 – 21h30 Assemblée Générale Ordinaire de l’association\, avec un programme qui sort de l’ordinaire !\n\nEn plus de l’ordre du jour habituel de l’AG (voir ci-dessous)\, nous profiterons d’une intervention spéciale de Christel Lemerle\, chef d’établissement coordinateur\, qui présentera le nouveau Projet Educatif de St Jean\, rappellera comment il a été réécrit et indiquera les grandes lignes des actions à venir pour sa mise œuvre concrète. \n  \nOrdre du jour de l’Assemblée Générale Ordinaire du 5 octobre 2023 à St Jean Hulst\, Salle Odéon\, 26 rue du Mal de Lattre de Tassigny : \n\nRapport moral (rapport d’activités 2022-2023)\nLes priorités pour l’année à venir\nRapport financier 2022-2023 et budget 2023-2024\nVotes :\n\nApprobation du rapport moral\nApprobation du rapport financier 2022-2023. Quitus de gestion.\nVote du budget 2023-2024\, et montant cotisation 2025.\n\n\nRésultat des élections des parents au Conseil d’Administration de l’association\nIntervention de Christel Lemerle sur le nouveau projet éducatif de SJH\nRencontres libres autour des stands Primaire / Collège / Lycée\n\nTrouvez ici la présentation de l’AG ! \nSi vous avez des question\,n’hésitez pas de nous contacter sur  apel@apel-saint-jean-hulst.org
URL:https://www.apel-saint-jean-hulst.org/event/assemblee-generale-de-lapel-de-saint-jean-hulst/
CATEGORIES:Pour Tous
ATTACH;FMTTYPE=image/jpeg:https://www.apel-saint-jean-hulst.org/wp-content/uploads/2023/06/AG-1260x709-1.jpg
END:VEVENT
END:VCALENDAR