
BEGIN:VCALENDAR
VERSION:2.0
PRODID:-//APEL SJH - ECPv6.15.20//NONSGML v1.0//EN
CALSCALE:GREGORIAN
METHOD:PUBLISH
X-WR-CALNAME:APEL SJH
X-ORIGINAL-URL:http://www.apel-saint-jean-hulst.org
X-WR-CALDESC:Évènements pour APEL SJH
REFRESH-INTERVAL;VALUE=DURATION:PT1H
X-Robots-Tag:noindex
X-PUBLISHED-TTL:PT1H
BEGIN:VTIMEZONE
TZID:Europe/Paris
BEGIN:DAYLIGHT
TZOFFSETFROM:+0100
TZOFFSETTO:+0200
TZNAME:CEST
DTSTART:20250330T010000
END:DAYLIGHT
BEGIN:STANDARD
TZOFFSETFROM:+0200
TZOFFSETTO:+0100
TZNAME:CET
DTSTART:20251026T010000
END:STANDARD
BEGIN:DAYLIGHT
TZOFFSETFROM:+0100
TZOFFSETTO:+0200
TZNAME:CEST
DTSTART:20260329T010000
END:DAYLIGHT
BEGIN:STANDARD
TZOFFSETFROM:+0200
TZOFFSETTO:+0100
TZNAME:CET
DTSTART:20261025T010000
END:STANDARD
BEGIN:DAYLIGHT
TZOFFSETFROM:+0100
TZOFFSETTO:+0200
TZNAME:CEST
DTSTART:20270328T010000
END:DAYLIGHT
BEGIN:STANDARD
TZOFFSETFROM:+0200
TZOFFSETTO:+0100
TZNAME:CET
DTSTART:20271031T010000
END:STANDARD
END:VTIMEZONE
BEGIN:VEVENT
DTSTART;TZID=Europe/Paris:20260112T120000
DTEND;TZID=Europe/Paris:20260112T133000
DTSTAMP:20260420T092724
CREATED:20251216T080423Z
LAST-MODIFIED:20251216T080423Z
UID:2888-1768219200-1768224600@www.apel-saint-jean-hulst.org
SUMMARY:Galette des maîtresses
DESCRIPTION:
URL:http://www.apel-saint-jean-hulst.org/event/galette-des-maitresses/
LOCATION:Primaire\, 16 rue Remilly\, VERSAILLES\, 78000\, France
CATEGORIES:Primaire
END:VEVENT
BEGIN:VEVENT
DTSTART;TZID=Europe/Paris:20260112T173000
DTEND;TZID=Europe/Paris:20260112T183000
DTSTAMP:20260420T092724
CREATED:20251216T080550Z
LAST-MODIFIED:20251216T080550Z
UID:2890-1768239000-1768242600@www.apel-saint-jean-hulst.org
SUMMARY:Réunion APEL Collège
DESCRIPTION:
URL:http://www.apel-saint-jean-hulst.org/event/reunion-apel-college/
LOCATION:Grand Saint Jean\, 26\, rue du Maréchal de Lattre de Tassigny\, VERSAILLES\, Sélectionner un État :\, 78000\, France
CATEGORIES:Collège
END:VEVENT
BEGIN:VEVENT
DTSTART;TZID=Europe/Paris:20260114T200000
DTEND;TZID=Europe/Paris:20260114T213000
DTSTAMP:20260420T092724
CREATED:20251211T080446Z
LAST-MODIFIED:20251211T081215Z
UID:2879-1768420800-1768426200@www.apel-saint-jean-hulst.org
SUMMARY:Conférence du Passeport Orientation "Y'a pas que les notes !"
DESCRIPTION:Chers parents\, \nL’Apel Académique de Versailles et les Apel départementales des Yvelines\, de l’Essonne\, des Hauts de Seine et du Val d’Oise sont heureuses de vous convier au Passeport Orientation pour l’année 2025-2026. Ce Passeport a pour objectif d’accompagner les parents au plus près sur toutes les questions liées à l’orientation. \nVous êtes chaleureusement conviés à la nouvelle conférence du Passeport Orientation : \n 🔊 Mercredi 14 janvier 2026 à 20h (en visio via Teams) \nPour la conférence : « Y a pas que les notes ! » Valoriser son parcours scolaire \n \nPour vous inscrire : CLIQUER ICI \nCette conférence vous est proposée dans le cadre de votre cotisation APEL et s’adresse aux parents d’enfants de la 6ème à la terminale. \nLes ados sont les bienvenus pour assister avec leurs parents à cette conférence.
URL:http://www.apel-saint-jean-hulst.org/event/conference-du-passeport-orientation-ya-pas-que-les-notes/
LOCATION:Teams
ATTACH;FMTTYPE=image/jpeg:http://www.apel-saint-jean-hulst.org/wp-content/uploads/2025/09/Passeport-Orientation-2025-2026-Visuel-V2.jpg
END:VEVENT
BEGIN:VEVENT
DTSTART;TZID=Europe/Paris:20260122T080000
DTEND;TZID=Europe/Paris:20260122T170000
DTSTAMP:20260420T092724
CREATED:20251216T170704Z
LAST-MODIFIED:20260115T214712Z
UID:2922-1769068800-1769101200@www.apel-saint-jean-hulst.org
SUMMARY:Commission Restauration
DESCRIPTION:Le 22 mars\, l’Apel SJH participera à la seconde Commission Restauration de cette année scolaire. \nFaites nous remonter toutes vos bonnes idées\, remarques\, points de satisfactions\, points d’amélioration\, en étant aussi factuel que possible\, et nous en feront part à la Commission. \nEcrire à Ignacio Marinas/Soizick Samaran/Amélie Dumortier\, membres de l’Apel SJH qui participent aux Commissions Restauration.
URL:http://www.apel-saint-jean-hulst.org/event/commission-restauration-7/
END:VEVENT
BEGIN:VEVENT
DTSTART;TZID=Europe/Paris:20260124T093000
DTEND;TZID=Europe/Paris:20260124T113000
DTSTAMP:20260420T092724
CREATED:20260112T210231Z
LAST-MODIFIED:20260115T213515Z
UID:2994-1769247000-1769254200@www.apel-saint-jean-hulst.org
SUMMARY:Rencontre avec Oser78
DESCRIPTION:Le 24 janvier\, accélérez votre retour à l’emploi avec Oser78 \n  \nChers Parents\, \nQue vous soyez en poste et désireux de rejoindre le réseau de l’association\, en recherche d’un nouvel élan professionnel\, ou intéressé(e) de vous investir comme bénévole\, OSER78 viendra vous présenter ses actions et ses réussites au service des cadres en transition professionnelle le samedi 24 janvier 2026\, de 9h30 à 11h30\, au sein de l’école. \n \nDepuis près de 30 ans\, l’association OSER78 œuvre avec passion pour accompagner les cadres expérimentés et les jeunes diplômés vers un retour à l’emploi durable. \nNée de l’initiative d’une mère de famille engagée au sein de l’APEL de Saint-Jean Hulst\, OSER78 a depuis guidé plus de 2500 talents dans leur transition professionnelle. Reconnue pour son professionnalisme\, sa bienveillance et son exigence\, l’association s’appuie sur une équipe de plus de 50 bénévoles engagés et sur son réseau de professionnels mobilisés. \nVenez rencontrer OSER78 et découvrez comment avancer ensemble !
URL:http://www.apel-saint-jean-hulst.org/event/oser78/
LOCATION:Lycée SJH
END:VEVENT
END:VCALENDAR