
BEGIN:VCALENDAR
VERSION:2.0
PRODID:-//APEL SJH - ECPv6.15.20//NONSGML v1.0//EN
CALSCALE:GREGORIAN
METHOD:PUBLISH
X-WR-CALNAME:APEL SJH
X-ORIGINAL-URL:http://www.apel-saint-jean-hulst.org
X-WR-CALDESC:Évènements pour APEL SJH
REFRESH-INTERVAL;VALUE=DURATION:PT1H
X-Robots-Tag:noindex
X-PUBLISHED-TTL:PT1H
BEGIN:VTIMEZONE
TZID:Europe/Paris
BEGIN:DAYLIGHT
TZOFFSETFROM:+0100
TZOFFSETTO:+0200
TZNAME:CEST
DTSTART:20240331T010000
END:DAYLIGHT
BEGIN:STANDARD
TZOFFSETFROM:+0200
TZOFFSETTO:+0100
TZNAME:CET
DTSTART:20241027T010000
END:STANDARD
BEGIN:DAYLIGHT
TZOFFSETFROM:+0100
TZOFFSETTO:+0200
TZNAME:CEST
DTSTART:20250330T010000
END:DAYLIGHT
BEGIN:STANDARD
TZOFFSETFROM:+0200
TZOFFSETTO:+0100
TZNAME:CET
DTSTART:20251026T010000
END:STANDARD
BEGIN:DAYLIGHT
TZOFFSETFROM:+0100
TZOFFSETTO:+0200
TZNAME:CEST
DTSTART:20260329T010000
END:DAYLIGHT
BEGIN:STANDARD
TZOFFSETFROM:+0200
TZOFFSETTO:+0100
TZNAME:CET
DTSTART:20261025T010000
END:STANDARD
END:VTIMEZONE
BEGIN:VEVENT
DTSTART;TZID=Europe/Paris:20251203T200000
DTEND;TZID=Europe/Paris:20251203T213000
DTSTAMP:20260420T125918
CREATED:20251211T081055Z
LAST-MODIFIED:20251211T081055Z
UID:2881-1764792000-1764797400@www.apel-saint-jean-hulst.org
SUMMARY:Conférence Passeport Orientation "Past Bac - Quelles orientations ?"
DESCRIPTION:Replay Conférence : Post BAC\, quelles orientations possibles ?\n \nVenez vivre ou revivre cette conférence en cliquant ici : https://youtu.be/gQaVN3h3yHk\n \nCe webinaire nous a permis d’y voir plus clair sur le panorama des formations en Post Bac. Avec des focus sur les prépas\, l’université et l’alternance. Des informations et des conseils afin d’accompagner au mieux son jeune dans ses choix d’avenir. \n \nIntervenante : Violaine Bigot\n \nCette conférence vous a été proposée par l’Apel Académique de Versailles et les Apel départementales des Yvelines\, de l’Essonne\, des Hauts de Seine et du Val dans le cadre de son Passeport Orientation pour l’année 2025-2026. 
URL:http://www.apel-saint-jean-hulst.org/event/conference-passeport-orientation-past-bac-quelles-orientations/
LOCATION:Teams
ATTACH;FMTTYPE=image/jpeg:http://www.apel-saint-jean-hulst.org/wp-content/uploads/2025/09/Passeport-Orientation-2025-2026-Visuel-V2.jpg
END:VEVENT
END:VCALENDAR