
BEGIN:VCALENDAR
VERSION:2.0
PRODID:-//APEL SJH - ECPv6.15.20//NONSGML v1.0//EN
CALSCALE:GREGORIAN
METHOD:PUBLISH
X-ORIGINAL-URL:http://www.apel-saint-jean-hulst.org
X-WR-CALDESC:Évènements pour APEL SJH
REFRESH-INTERVAL;VALUE=DURATION:PT1H
X-Robots-Tag:noindex
X-PUBLISHED-TTL:PT1H
BEGIN:VTIMEZONE
TZID:Europe/Paris
BEGIN:DAYLIGHT
TZOFFSETFROM:+0100
TZOFFSETTO:+0200
TZNAME:CEST
DTSTART:20240331T010000
END:DAYLIGHT
BEGIN:STANDARD
TZOFFSETFROM:+0200
TZOFFSETTO:+0100
TZNAME:CET
DTSTART:20241027T010000
END:STANDARD
BEGIN:DAYLIGHT
TZOFFSETFROM:+0100
TZOFFSETTO:+0200
TZNAME:CEST
DTSTART:20250330T010000
END:DAYLIGHT
BEGIN:STANDARD
TZOFFSETFROM:+0200
TZOFFSETTO:+0100
TZNAME:CET
DTSTART:20251026T010000
END:STANDARD
BEGIN:DAYLIGHT
TZOFFSETFROM:+0100
TZOFFSETTO:+0200
TZNAME:CEST
DTSTART:20260329T010000
END:DAYLIGHT
BEGIN:STANDARD
TZOFFSETFROM:+0200
TZOFFSETTO:+0100
TZNAME:CET
DTSTART:20261025T010000
END:STANDARD
END:VTIMEZONE
BEGIN:VEVENT
DTSTART;TZID=Europe/Paris:20250522T080000
DTEND;TZID=Europe/Paris:20250522T170000
DTSTAMP:20260421T005236
CREATED:20241018T135055Z
LAST-MODIFIED:20241018T135055Z
UID:2448-1747900800-1747933200@www.apel-saint-jean-hulst.org
SUMMARY:Conseil Pastoral
DESCRIPTION:Le projet pastoral de SJH est soutenu et menés par une communauté de laïcs engagés pour nos enfants\, de bénévoles et bien sûr de pères eudistes et diocésains. \nUn Conseil pastoral auquel l’Apel est convié\, se réunit à échéances régulières pour faire le point sur les actions mises en oeuvre et les nouveaux projets à venir. \nNous avons donc besoin\, à ce titre\, de vos contributions\, remarques\, suggestions afin de faire valoir votre parole auprès des parties prenantes à ce conseil. \nParents d’élèves\, n’hésitez donc pas à faire vos remontées\, en amont du conseil\, en adressant un email à commission-pastorale@apel-saint-jean-hulst.org
URL:http://www.apel-saint-jean-hulst.org/event/conseil-pastoral-6/
CATEGORIES:Pour Tous
END:VEVENT
END:VCALENDAR